BEGIN:VCALENDAR
VERSION:2.0
PRODID:-//CORLAB - ECPv6.15.20//NONSGML v1.0//EN
CALSCALE:GREGORIAN
METHOD:PUBLISH
X-WR-CALNAME:CORLAB
X-ORIGINAL-URL:https://corlab.cordoba.gob.ar
X-WR-CALDESC:Eventos para CORLAB
REFRESH-INTERVAL;VALUE=DURATION:PT1H
X-Robots-Tag:noindex
X-PUBLISHED-TTL:PT1H
BEGIN:VTIMEZONE
TZID:America/Argentina/Cordoba
BEGIN:STANDARD
TZOFFSETFROM:-0300
TZOFFSETTO:-0300
TZNAME:-03
DTSTART:20250101T000000
END:STANDARD
END:VTIMEZONE
BEGIN:VEVENT
DTSTART;TZID=America/Argentina/Cordoba:20260423T170000
DTEND;TZID=America/Argentina/Cordoba:20260423T190000
DTSTAMP:20260423T012811
CREATED:20260413T221607Z
LAST-MODIFIED:20260414T124603Z
UID:20206-1776963600-1776970800@corlab.cordoba.gob.ar
SUMMARY:Construyendo el mapa del ecosistema: capital\, datos y oportunidades
DESCRIPTION:Un encuentro para fortalecer el vínculo entre inversión\, información estratégica y crecimiento emprendedor en Córdoba. \n\n\n\nEn un contexto donde la competitividad de los ecosistemas depende cada vez más de su capacidad de generar datos y atraer capital\, este evento propone una conversación clave: cómo conectar de manera más efectiva a startups\, inversores e instituciones a partir de información estructurada y evidencia concreta. \n\n\n\nLa jornada contará con la participación de Fernando Solschaga\, Director Ejecutivo de ARCAP\, quien compartirá la mirada del capital privado en Argentina\, cómo funcionan los fondos de inversión y qué oportunidades se abren hoy para proyectos con potencial de crecimiento. \n\n\n\nAdemás\, Hernán Perin\, Director General Govtech de CorLab\, presentará el Startup Monitor Córdoba\, una herramienta estratégica impulsada por CorLab de la Municipalidad de Córdoba y ASETEC que releva información del ecosistema local para fortalecer la toma de decisiones\, mejorar el posicionamiento internacional y facilitar la atracción de inversión. \n\n\n\nEl encuentro está dirigido a startups\, inversores\, instituciones\, actores del ecosistema y público interesado en el desarrollo emprendedor y tecnológico de la ciudad.Porque un ecosistema crece cuando se conecta. Y se fortalece cuando se mide. \n\n\n\n\nINSCRIPCIONES ABIERTAS
URL:https://corlab.cordoba.gob.ar/actividad/construyendo-el-mapa-del-ecosistema-capital-datos-y-oportunidades/
CATEGORIES:Presencial
ATTACH;FMTTYPE=image/png:https://corlab.cordoba.gob.ar/wp-content/uploads/2026/04/banner-para-noticias-Wordpress-1.png
END:VEVENT
END:VCALENDAR