BEGIN:VCALENDAR
VERSION:2.0
PRODID:-//CORLAB - ECPv6.15.20//NONSGML v1.0//EN
CALSCALE:GREGORIAN
METHOD:PUBLISH
X-ORIGINAL-URL:https://corlab.cordoba.gob.ar
X-WR-CALDESC:Eventos para CORLAB
REFRESH-INTERVAL;VALUE=DURATION:PT1H
X-Robots-Tag:noindex
X-PUBLISHED-TTL:PT1H
BEGIN:VTIMEZONE
TZID:America/Argentina/Cordoba
BEGIN:STANDARD
TZOFFSETFROM:-0300
TZOFFSETTO:-0300
TZNAME:-03
DTSTART:20210101T000000
END:STANDARD
END:VTIMEZONE
BEGIN:VEVENT
DTSTART;TZID=America/Argentina/Cordoba:20220721T180000
DTEND;TZID=America/Argentina/Cordoba:20220722T200000
DTSTAMP:20260422T203858
CREATED:20220718T151513Z
LAST-MODIFIED:20220718T211238Z
UID:9149-1658426400-1658520000@corlab.cordoba.gob.ar
SUMMARY:Seminario de Ciberseguridad para Empresas
DESCRIPTION:El Córdoba Cyber-security Hub invita a la comunidad empresaria de Córdoba a participar de esta capacitación gratuita e intensiva para empresas\, en dónde se tratarán los conceptos centrales de la ciberseguridad y cómo implementarlos para mejorar la seguridad digital de la empresa. \n\n\n\nLa formación se dictará de manera mixta (virtual y presencial) los días jueves 21 y viernes 22 de julio de 18 a 20hs en Vélez Sarsfield 1611 (Edificio PLM de la Facultad de Ciencias Exactas\, Físicas y Naturales UNC) y será dictada por el Mg. en Ingeniería de Software\, Miguel Ángel Solinas. El evento está dirigido a directivos y colaboradores especializados de empresas de Córdoba. Los cupos son limitados y requiere inscripción previa. \n\n\n\nEsta capacitación contará con 4hs de contenidos prácticos y es co-organizada con el Ministerio de Desarrollo Productivo de la Nación y la Secretaría de Extensión de la Facultad de Ciencias Exactas\, Físicas y Naturales (FCEFyN UNC). \n\n\n\nContenidos\n\n\n\n➡Introducción a la seguridad de la información. Conceptos de confidencialidad\, integridad y autenticidad. Clasificación de seguridad de documentos. Política de Seguridad. Casos prácticos. \n\n\n\n➡Herramientas criptográficas. Principales algoritmos\, criptografía de clave pública y de clave secreta\, funciones de hash. \n\n\n\n➡Ataques más comunes. Medidas de seguridad más implementadas en ambientes personales y corporativos. \n\n\n\n➡Esquemas prácticos para elevar el nivel de madurez de seguridad. Conceptos de Firma Digital\, aplicaciones. Casos prácticos. \n\n\n\n➡Implementación de medidas de seguridad. Herramientas de seguridad más utilizadas. Aplicaciones concretas se seguridad para el caso de transmisión y almacenamiento.
URL:https://corlab.cordoba.gob.ar/actividad/9149/
CATEGORIES:Evento en línea,Presencial
ATTACH;FMTTYPE=image/png:https://corlab.cordoba.gob.ar/wp-content/uploads/2022/07/seminario-ciberseguridad-2-e1658159329786.png
END:VEVENT
BEGIN:VEVENT
DTSTART;TZID=America/Argentina/Cordoba:20220725T110000
DTEND;TZID=America/Argentina/Cordoba:20220725T123000
DTSTAMP:20260422T203858
CREATED:20220719T133924Z
LAST-MODIFIED:20220719T164422Z
UID:9169-1658746800-1658752200@corlab.cordoba.gob.ar
SUMMARY:Mejores Prácticas en Ciberseguridad: Metodologías israelíes para organizaciones
DESCRIPTION:¿Sabías que el 40% de la inversión privada a nivel global en ciberseguridad tiene lugar en Israel? El país además cuenta con más de 500 startups dedicadas a la seguridad digital y más 300 compañías multinacionales de alta tecnología han establecido allí sus centros de innovación y desarrollo.A medida que la transformación digital continúa expandiéndose en América Latina y el Caribe\, también crece la exposición colectiva a los riesgos de ciberseguridad. Por eso\, desde el Córdoba Ciber-Security Hub te invitamos a participar de este evento del Banco Interamericano de Desarrollo\, en donde el BID presentará una serie de publicaciones traducidas al español que analizan las más avanzadas metodologías de Israel para proteger las organizaciones de la región de potenciales ataques cibernéticos.
URL:https://corlab.cordoba.gob.ar/actividad/mejores-practicas-en-ciberseguridad-metodologias-israelies-para-organizaciones/
CATEGORIES:Evento en línea
ATTACH;FMTTYPE=image/png:https://corlab.cordoba.gob.ar/wp-content/uploads/2022/07/bid-ciber-e1658237943667.png
END:VEVENT
BEGIN:VEVENT
DTSTART;TZID=America/Argentina/Cordoba:20220727T080000
DTEND;TZID=America/Argentina/Cordoba:20220727T090000
DTSTAMP:20260422T203858
CREATED:20220714T204204Z
LAST-MODIFIED:20220714T204209Z
UID:9115-1658908800-1658912400@corlab.cordoba.gob.ar
SUMMARY:Inteligencia Artificial en las Ciudades
DESCRIPTION:La revolución digital ha promovido que las ciudades se prepararen para generar\, analizar y compartir datos urbanos\, sobre todo en una región donde el 80% de la población ya vive en ciudades. Sin embargo\, en nuestra región suelen faltar las herramientas necesarias para dar soporte de datos para tareas como mapear las zonas de vivienda informal donde hace falta llegar con infraestructura pública\, comprender y planificar el desarrollo del territorio a la vez que se protegen las zonas de riesgo\, o mejorar la accesibilidad a bienes y servicios para impulsar la economía y calidad de vida local. \n\n\n\nEn este contexto\, la Red de Ciudades y el Laboratorio de Ciudades del BID te invitan al webinar Inteligencia Artificial en las ciudades: planificación urbana y gestión pública\, un espacio virtual en el que presentaremos soluciones de Inteligencia Artificial como herramientas de gestión con impacto social. Asimismo\, pondremos a disposición de la audiencia la herramienta MAIIA\, un algoritmo que permite mapear de forma automatizada la ubicación de asentamientos urbanos informales mediante el análisis de imágenes satelitales.
URL:https://corlab.cordoba.gob.ar/actividad/inteligencia-artificial-en-las-ciudades/
CATEGORIES:Evento en línea
ATTACH;FMTTYPE=image/jpeg:https://corlab.cordoba.gob.ar/wp-content/uploads/2022/07/unnamed-7.jpeg
END:VEVENT
END:VCALENDAR