BEGIN:VCALENDAR
VERSION:2.0
PRODID:-//CORLAB - ECPv6.15.20//NONSGML v1.0//EN
CALSCALE:GREGORIAN
METHOD:PUBLISH
X-ORIGINAL-URL:https://corlab.cordoba.gob.ar
X-WR-CALDESC:Eventos para CORLAB
REFRESH-INTERVAL;VALUE=DURATION:PT1H
X-Robots-Tag:noindex
X-PUBLISHED-TTL:PT1H
BEGIN:VTIMEZONE
TZID:America/Argentina/Cordoba
BEGIN:STANDARD
TZOFFSETFROM:-0300
TZOFFSETTO:-0300
TZNAME:-03
DTSTART:20210101T000000
END:STANDARD
END:VTIMEZONE
BEGIN:VEVENT
DTSTART;TZID=America/Argentina/Cordoba:20220818T110000
DTEND;TZID=America/Argentina/Cordoba:20220818T120000
DTSTAMP:20260422T191532
CREATED:20220816T163921Z
LAST-MODIFIED:20220816T163926Z
UID:9605-1660820400-1660824000@corlab.cordoba.gob.ar
SUMMARY:Actitud Digital: el camino de los gobiernos para transformar su gestión
DESCRIPTION:En el siglo XXI\, la digitalización ya no es una opción sino una necesidad. Te invitamos a sumarte y presenciar al webinar de MuniDigital en donde el intendente Martin Llaryora junto a diferentes Intendentes de la Argentina presentarán cómo mejoraron la calidad de vida de los ciudadanos a través de la digitalización de su gestión de gobierno.  \n\n\n\nEn la charla podrás conocer las experiencias de los municipios de Córdoba\, La Rioja\, La Costa\, San Isidro\, San Luis y Mendoza. Conduce el evento Lucía Belocchio\, especialista en Smart Cities. \n\n\n\nSumate y conocé el camino que gobiernos y sus líderes están eligiendo para transformar la gestión de las ciudades. ¡Te esperamos!
URL:https://corlab.cordoba.gob.ar/actividad/actitud-digital-el-camino-de-los-gobiernos-para-transformar-su-gestion/
CATEGORIES:Evento en línea
ATTACH;FMTTYPE=image/jpeg:https://corlab.cordoba.gob.ar/wp-content/uploads/2022/08/webinar-digitalizacion-e1660667330210.jpeg
END:VEVENT
BEGIN:VEVENT
DTSTART;TZID=America/Argentina/Cordoba:20220823T090000
DTEND;TZID=America/Argentina/Cordoba:20220823T130000
DTSTAMP:20260422T191532
CREATED:20220817T154409Z
LAST-MODIFIED:20220817T154439Z
UID:9638-1661245200-1661259600@corlab.cordoba.gob.ar
SUMMARY:XIV Encuentro de Ciudades Inteligentes y GovTech
DESCRIPTION:Llega el XIV Encuentro de Ciudades Inteligentes y GovTech\, el encuentro organizado por Prince Consulting y la Red de Ciudades Inteligentes de Argentina. \n\n\n\nEn esta oportunidad\, el encuentro se realizará el próximo 23 de Agosto y cuenta con el patrocinio de Smart City TNG.El evento contará con la narración de las experiencias de gestión de los principales municipios Smart Cities del país\, incluyendo a Córdoba. También será el lugar donde se presentarán las bases y plazos para presentarse a la convocatoria de los Premios 2022 a las Ciudades Inteligentes y se compartirán algunos adelantos del relevamiento de Ciudades Digitales que viene desarrollando Prince Consulting.  \n\n\n\nEl evento tendrá formato híbrido y se transmitirá en vivo vía streaming para todo público. \n\n\n\n#SaveTheDateMartes 23 de Agosto de 2022 9.00 a 13.00 hsHotel 725 Continental (CABA) \n\n\n\nINSCRIBITE ACÁ \n\n\n\nNo te quedes afuera de este encuentro inédito para impulsar la sinergia entre los distintos actores del ecosistema de ciudades inteligentes y govtech. \n\n\n\nAGENDA\n\n\n\n9.00  Apertura \n\n\n\nIng. Luis Papagni\, Subsecretario de Innovación.\n\n\n\n9.30  Ciudades Ganadoras de los Premios 2021 \n\n\n\nMar del Plata\, Provincia de Buenos Aires.Ciudad Autónoma de Buenos Aires (CABA).Luján de Cuyo\, Provincia de Mendoza.Córdoba\, Provincia de Córdoba.Modera: Mg. Carolina Tkachuk\n\n\n\n11.00  Adelantos sobre el estudio de Ciudades Digitales \n\n\n\nDr. Alejandro Prince.\n\n\n\n11.30  Desarrollando el ecosistema GovTech y las Ciudades Inteligentes. \n\n\n\nDr. Enrique Zapata\, Director de GovTech Latinoamérica\, Banco de Desarrollo de América Latina – CAF.\n\n\n\n12.00  Municipios Digitales de la Región. \n\n\n\nJavier Morales\, Alcaldía de Renca\, Chile. Felipe Guzmán Ramírez\, Consejero de la Alcaldía de Bogotá\, Colombia.\n\n\n\n12.30  Cierre \n\n\n\nDr. Gonzalo Quilodrán\, Director de ENACOM.\n\n\n\n\n\n\n\nSobre Recia\n\n\n\nRed de Ciudades Inteligentes de Argentina (RECIA)\, es un espacio de intercambio de experiencias y conocimientos para promover las ciudades inteligentes y la mejora de la gestión de gobierno. La Red está conformada por referentes de municipios inteligentes de todo el país\, y cuenta con un Consejo Directivo y un Consejo Asesor. El Consejo Directivo reúne a prestigiosos individuos del sector privado\, y representantes del Estado\, la academia y la sociedad civil que asesoran temáticamente a la Red sobre sus ejes de trabajo. El Consejo Asesor es un cuerpo de consulta continua para funcionarios y municipios y ha sido seleccionado en base a sus conocimientos o experiencia en la temática. \n\n\n\nSobre Prince Consulting\n\n\n\nDesde el año 2000 Prince Consulting desarrolla diversos estudios y proyectos de análisis y difusión respecto a los beneficios de la implementación de tecnologías de la información en la Administración Pública y Gobierno\, en todas sus áreas y niveles. \n\n\n\nDesde el año 2015\, junto a la Red de Ciudades Inteligentes de Argentina (RECIA)\, Prince Consulting organiza Encuentros con funcionarios nacionales y municipales\, académicos\, expertos y proveedores de tecnologías como espacio de intercambio y sinergia que permita impulsar el desarrollo de la gestión inteligente de las ciudades. A su vez\, y desde hace varios años\, junto a un jurado de reconocidas figuras\, ambas entidades organizan los Premios a las Ciudades Inteligentes.
URL:https://corlab.cordoba.gob.ar/actividad/xiv-encuentro-de-ciudades-inteligentes-y-govtech/
CATEGORIES:Evento en línea
ATTACH;FMTTYPE=image/jpeg:https://corlab.cordoba.gob.ar/wp-content/uploads/2022/08/flyer-smart-govtech-scaled-e1660750950928.jpeg
END:VEVENT
END:VCALENDAR