BEGIN:VCALENDAR
VERSION:2.0
PRODID:-//CORLAB - ECPv6.15.20//NONSGML v1.0//EN
CALSCALE:GREGORIAN
METHOD:PUBLISH
X-WR-CALNAME:CORLAB
X-ORIGINAL-URL:https://corlab.cordoba.gob.ar
X-WR-CALDESC:Eventos para CORLAB
REFRESH-INTERVAL;VALUE=DURATION:PT1H
X-Robots-Tag:noindex
X-PUBLISHED-TTL:PT1H
BEGIN:VTIMEZONE
TZID:America/Argentina/Cordoba
BEGIN:STANDARD
TZOFFSETFROM:-0300
TZOFFSETTO:-0300
TZNAME:-03
DTSTART:20210101T000000
END:STANDARD
END:VTIMEZONE
BEGIN:VEVENT
DTSTART;TZID=America/Argentina/Cordoba:20221103T130000
DTEND;TZID=America/Argentina/Cordoba:20221103T160000
DTSTAMP:20260422T151109
CREATED:20221013T023833Z
LAST-MODIFIED:20221013T023948Z
UID:10142-1667480400-1667491200@corlab.cordoba.gob.ar
SUMMARY:Converge Globant. Reinventing Connections
DESCRIPTION:Un evento global que explora cómo la tecnología está conectando a la humanidad mientras construye un futuro impulsado por la innovación y la creatividad. \n\n\n\nVanguardistas\, innovadores\, techies\, y líderes. Todos ellos se unen para compartir sus historias sobre cómo impulsan la reinvención. \n\n\n\nVivimos en una sociedad empoderada por la tecnología emergente redescubriendo formas de conectarse. La expresión humana sigue encontrando nuevas formas y formatos reinventandose a cada paso. \n\n\n\nLa tecnología tiene el potencial de reinventar la forma en que experimentamos el mundo. En este nuevo escenario\, las compañias líderes se encuentran transformando sus negocios y haciendo uso de desarrollos como: Blockchain\, Crypto\, Gaming\, Metaverse e IA. \n\n\n\nSomos testigos y protagonistas de un período trascendental único en la historia. Conectamos con las tecnologías que permiten nuevos caminos de reinvención\, siempre garantizando que estas fuerzas sean usadas para el bien. \n\n\n\nÚnete a la conversación de expertos en Converge e inspírate con las historias que impulsan la reinvención en la actualidad.
URL:https://corlab.cordoba.gob.ar/actividad/converge-globant-reinventing-connections/
CATEGORIES:Evento en línea
ATTACH;FMTTYPE=image/jpeg:https://corlab.cordoba.gob.ar/wp-content/uploads/2022/10/reinventing-connections-thumbnail-video_5.jpeg
END:VEVENT
BEGIN:VEVENT
DTSTART;TZID=America/Argentina/Cordoba:20221114T080000
DTEND;TZID=America/Argentina/Cordoba:20221118T170000
DTSTAMP:20260422T151109
CREATED:20221018T135035Z
LAST-MODIFIED:20221117T143328Z
UID:10206-1668412800-1668790800@corlab.cordoba.gob.ar
SUMMARY:Hackatón: Construyendo un País Más Accesible
DESCRIPTION:Esta hackatón es una iniciativa de la Secretaría de Economía del Conocimiento de la Nación\, en alianza con la plataforma de innovación abierta tekuoia y con la colaboración de la consultora social Libertate y la Agencia Nacional de Discapacidad (ANDIS).  \n\n\n\nEl objetivo de esta hackatón es promover la identificación\, el acompañamiento y el fortalecimiento de proyectos que mediante la aplicación de la tecnología de manera disruptiva\, estén orientados al desarrollo de entornos accesibles\, contribuyendo así con el pleno ejercicio de derechos por parte de las personas con discapacidad. \n\n\n\nEJES DE TRABAJO\n\n\n\nPara el desarrollo de la propuesta de solución y la postulación de proyectos\, quienes se inscriban deberán elegir uno de los siguientes ejes de trabajo \n\n\n\n\nEje 1: Cambio cultural\n\n\n\nEje 2: Comunicación\n\n\n\nEje 3: Entornos físicos\n\n\n\nEje 4: Educación y formación\n\n\n\nEje 5: Empleo\n\n\n\n\nA lo largo de una semana se brindarán talleres sobre empatía\, diseño universal y accesibilidad para que puedas desarrollar tu proyecto. Pueden inscribirse emprendedores de manera individual o con un equipo\, para crear una idea desde cero o desarrollar una idea en la que ya estés trabajando. Hay hasta $500.000 en premios para repartir entre 3 equipos equipos ganadores.  \n\n\n\nInscripciones abiertas hasta el 06 de noviembre \n\n\n\n 
URL:https://corlab.cordoba.gob.ar/actividad/hackaton-construyendo-un-pais-mas-accesible/
CATEGORIES:Evento en línea
ATTACH;FMTTYPE=image/png:https://corlab.cordoba.gob.ar/wp-content/uploads/2022/10/accesibilidad-e1666100947410.png
END:VEVENT
BEGIN:VEVENT
DTSTART;TZID=America/Argentina/Cordoba:20221119T100000
DTEND;TZID=America/Argentina/Cordoba:20221119T173000
DTSTAMP:20260422T151109
CREATED:20221117T142732Z
LAST-MODIFIED:20221117T143226Z
UID:10504-1668852000-1668879000@corlab.cordoba.gob.ar
SUMMARY:Congreso Latinoamericano de Accesibilidad y Usabilidad
DESCRIPTION:Te invitamos a participar del Congreso Latinoamericano de Accesibilidad y Usabilidad. Si te interesa la accesibilidad y la usabilidad\, no puedes perderte este congreso 100% gratuito\, abierto y online. \n\n\n\nEl CLAU es un espacio impulsado por importantes comunidades de Latinoamérica que trabajan por la Accesibilidad y Usabilidad de las tecnologías en Argentina y América Latina. El objetivo es visibilizar el trabajo de nuestra región en materia de accesibilidad digital y compartir conocimientos de diferentes referentes de latinoamérica y el mundo. \n\n\n\nEl evento es co organizado por: DALAT\, Fundación iTgrarte\, Espacio epilepsia\, Más mujeres en UX\, Diseño ético comunidad\, Hearcolors y con sello inclusivo y tendrá lugar el próximo Sábado 19 de Noviembre de 10 a 17.30h (AR\, UY\, CL)\, 9 a 16.30h (VE)\, 8 a 15.30h (CO\, MX\, PE). \n\n\n\nDesde CorLab apoyamos y somos parte de esta iniciativa. Conocé acá más del trabajo que realizamos junto a Fundación DALAT para disminuir la brecha digital\, en el marco del programa Menos Brecha\, Más Comunidad.
URL:https://corlab.cordoba.gob.ar/actividad/congreso-latinoamericano-de-accesibilidad-y-usabilidad/
CATEGORIES:Evento en línea
ATTACH;FMTTYPE=image/jpeg:https://corlab.cordoba.gob.ar/wp-content/uploads/2022/11/311133510_178042134757104_8461741037902644839_n-1-scaled-e1668695525129.jpg
END:VEVENT
BEGIN:VEVENT
DTSTART;TZID=America/Argentina/Cordoba:20221128T120000
DTEND;TZID=America/Argentina/Cordoba:20221128T133000
DTSTAMP:20260422T151109
CREATED:20221125T151014Z
LAST-MODIFIED:20221125T151017Z
UID:10634-1669636800-1669642200@corlab.cordoba.gob.ar
SUMMARY:PropTechs en ALC: las perspectivas de inversión
DESCRIPTION:PropTech es el nombre corto para referirnos a “Property + Technology” y se refiere a las innovaciones tecnológicas que están simplificando\, dinamizando\, mejorando acceso y haciendo más verde la industria inmobiliaria.  ¿Cuál es la visión de los inversionistas interesados en este tipo de compañías? ¿Por qué los inversores están interesados en empresas #PropTech? Descúbralo en este evento donde conocerá además los resultados de nuestro último estudio y la tesis de inversión de BID Lab y otros fondos que agregan PropTech a sus carteras. \n\n\n\n\n\n\n\nPanelistas\n\n\n\n\nCamila de Ferrari\, Consultora independiente\n\n\n\nDidier Quiroz\, 500 Startups LatAm\n\n\n\nKarla Arrambide\, CEMEX Ventures\n\n\n\nStella Yoh\, BID Lab \n\n\n\n\nEl evento será online\, en idioma español con interpretación al inglés. 
URL:https://corlab.cordoba.gob.ar/actividad/proptechs-en-alc-las-perspectivas-de-inversion/
CATEGORIES:Evento en línea
ATTACH;FMTTYPE=image/jpeg:https://corlab.cordoba.gob.ar/wp-content/uploads/2022/11/webinar-proptech-e1669388946341.jpg
END:VEVENT
BEGIN:VEVENT
DTSTART;TZID=America/Argentina/Cordoba:20221130T130000
DTEND;TZID=America/Argentina/Cordoba:20221130T143000
DTSTAMP:20260422T151109
CREATED:20221125T153757Z
LAST-MODIFIED:20221125T153801Z
UID:10638-1669813200-1669818600@corlab.cordoba.gob.ar
SUMMARY:Webinar ¿Cómo adquirir soluciones innovadoras y digitales en el sector público?
DESCRIPTION:Te invitamos a participar de este nuevo Webinar de BID LaB:  Govtech: Innovación y nuevos proveedores digitales en las ciudades. ¿Cómo adquirir soluciones innovadoras y digitales en el sector público? \n\n\n\n\n\n\n\nEn las ciudades de América Latina y el Caribe\, uno de los grandes retos en el trabajo con nuevos proveedores digitales es el proceso de contratación debido a las restricciones que presentan los marcos de compra pública vigentes. Sin embargo\, algunas de ellas han encontrado cómo trabajar junto a estos nuevos proveedores y mejorar la provisión de servicios en sus ciudades. \n\n\n\nEn este contexto\, el Laboratorio de Ciudades del BID te invita a participar en el webinar Innovación y nuevos proveedores digitales:  ¿cómo aprovechar los marcos contractuales existentes? En este espacio virtual descubriremos diferentes mecanismos para acercar soluciones innovadoras de startups y PYMEs digitales a las instituciones públicas dentro del marco de compras públicas.  \n\n\n\nEn este espacio además se compartirá la iniciativa GovTech LATAM\, una plataforma de innovación abierta liderada por BID Lab que trabaja en identificar\, probar y escalar nuevas soluciones digitales de startups y scaleups para atender los grandes retos urbanos y mejorar los servicios públicos de las ciudades de América Latina y el Caribe.
URL:https://corlab.cordoba.gob.ar/actividad/webinar-como-adquirir-soluciones-innovadoras-y-digitales-en-el-sector-publico/
CATEGORIES:Evento en línea
ATTACH;FMTTYPE=image/png:https://corlab.cordoba.gob.ar/wp-content/uploads/2022/11/webinar-innovacion-e1669390106365.png
END:VEVENT
BEGIN:VEVENT
DTSTART;TZID=America/Argentina/Cordoba:20221130T183000
DTEND;TZID=America/Argentina/Cordoba:20221130T213000
DTSTAMP:20260422T151109
CREATED:20221123T141309Z
LAST-MODIFIED:20221125T174008Z
UID:10576-1669833000-1669843800@corlab.cordoba.gob.ar
SUMMARY:International Cybersecurity Day!
DESCRIPTION:HACKER SPACE y CÓRDOBA CYBER SECURITY HUB te invitan a participar del último evento del año donde celebraremos el Día Internacional de la Ciberseguridad para seguir fortaleciendo la comunidad hacker en Córdoba capital. \n\n\n\nEl evento International Cybersecurity Day! se realizará el próximo miércoles 30 de noviembre a partir de las 18.30hs en las oficinas de Prominente\, José Baigorrí 653 – B° Alta Córdoba\, Córdoba Capital. Contaremos con disertantes de  Smartfense\, AttackIQ y NaranjaX. \n\n\n\nEsta iniciativa tiene lugar en el marco del Día Internacional de la Seguridad Informática que se celebra de manera simultánea en las principales ciudades del mundo. Se trata de una jornada dedicada a generar conciencia en la comunidad tecnológico sobre cómo mantener los datos en línea seguros y protegidos.  \n\n\n\nAGENDA\n\n\n\n\n18:30 – 19:00 – Ingreso y Registro.\n\n\n\n19:00 -19:40 – «Pescando el éxito» by Mauro Graziosi – CEO de Smartfense.\n\n\n\n19:45- 20:20 – «No parking\, No problem!» by Nacho Navarro – Sr. Software Engineer at AttackIQ.\n\n\n\n20:30 – 21:00 – «Turning my phone into a scamming device» by Dan Borgogno & Ile Barrionuevo – Sr. App Security Engineer at Naranja X.\n\n\n\n21:00- 21:30 – Cierre del Espacio & Networking.\n\n\n\n\nPara una mejor organización\, solicitamos que te registres solo en caso que puedas asegurar tu participación\, de lo contrario estarás quitando la oportunidad a otra persona que quiera y pueda asistir. \n\n\n\nReservá tu lugar acá ¡Los esperamos!
URL:https://corlab.cordoba.gob.ar/actividad/hackerspace-international-security-day/
LOCATION:José Baigorri 653
CATEGORIES:Evento en línea,Presencial
ATTACH;FMTTYPE=image/png:https://corlab.cordoba.gob.ar/wp-content/uploads/2022/11/International-Cybersecurity-Day-e1669397837642.png
END:VEVENT
END:VCALENDAR