BEGIN:VCALENDAR
VERSION:2.0
PRODID:-//CORLAB - ECPv6.15.20//NONSGML v1.0//EN
CALSCALE:GREGORIAN
METHOD:PUBLISH
X-ORIGINAL-URL:https://corlab.cordoba.gob.ar
X-WR-CALDESC:Eventos para CORLAB
REFRESH-INTERVAL;VALUE=DURATION:PT1H
X-Robots-Tag:noindex
X-PUBLISHED-TTL:PT1H
BEGIN:VTIMEZONE
TZID:America/Argentina/Cordoba
BEGIN:STANDARD
TZOFFSETFROM:-0300
TZOFFSETTO:-0300
TZNAME:-03
DTSTART:20220101T000000
END:STANDARD
END:VTIMEZONE
BEGIN:VEVENT
DTSTART;TZID=America/Argentina/Cordoba:20230104T200000
DTEND;TZID=America/Argentina/Cordoba:20230104T210000
DTSTAMP:20260422T123507
CREATED:20230102T213730Z
LAST-MODIFIED:20230102T213734Z
UID:11117-1672862400-1672866000@corlab.cordoba.gob.ar
SUMMARY:BENCHMARKING INNOVACIÓN: “Oficinas del Futuro”
DESCRIPTION:Invitamos a nuestra comunidad a participar el próximo miércoles 4 de enero a las 20hs del webinar BENCHMARKING INNOVACIÓN: “Oficinas del Futuro” organizado por el Instituto Mexicano de Mejores Practicas Corporativas. \n\n\n\nCon la misión de compartir experiencias y difundir las mejores prácticas en los negocios\, el IMMPC ha conformado el Comité de Innovación\, integrado por expertos especializados en distintas materias. Ellos se dedican a investigar\, identificar\, desarrollar\, ejecutar y compartir conocimientos que les permitan a los participantes de sus programas de benchmarking comparar sus procesos de negocio y sus indicadores de desempeño\, contra las mejores prácticas de diversas industrias y sectores empresariales.  \n\n\n\nEl objetivo de este webinar es impulsar sus mejores prácticas y para aportar al desarrollo sustentable de sus organizaciones. Inscríbete y capacítate en compañía de Jorge Benard\, empresario y cónsul honorario\, del benchmarking del Comité de Innovación del IMMPC.
URL:https://corlab.cordoba.gob.ar/actividad/benchmarking-innovacion-oficinas-del-futuro-2/
CATEGORIES:Evento en línea
ATTACH;FMTTYPE=image/png:https://corlab.cordoba.gob.ar/wp-content/uploads/2023/01/evento-4-1-e1672680395222.png
END:VEVENT
BEGIN:VEVENT
DTSTART;TZID=America/Argentina/Cordoba:20230112T223000
DTEND;TZID=America/Argentina/Cordoba:20230112T233000
DTSTAMP:20260422T123507
CREATED:20230104T142350Z
LAST-MODIFIED:20230104T142354Z
UID:11127-1673562600-1673566200@corlab.cordoba.gob.ar
SUMMARY:StartupBrite: Pitch To Angel Investors
DESCRIPTION:Invitamos a la comunidad de emprendedores tecnológicos a participar de las sesiones de pitcheo de StartupBrite\, la startup estadounidense especializada en pitch y mentoreo para emprendedores y founders. \n\n\n\nEs posible participar de las sesiones como pitcher\, quienes son fundadores y se encuentran lanzando una idea al mercado ante un panel de inversores ángeles y especialistas que brindan feedback. Se accede a esta modalidad pagando una cuota de inscripción. Además se puede acceder como asistente para participar de la transmisión de las sesiones de pitcheo. \n\n\n\nEl evento se realizará periódicamente durante todo el año\, con sesiones que se realizarán cada dos semanas en el horario de 5:30 PM – 7:30 PM PST (Pacific Standar Time). \n\n\n\nPara conocer más sobre cómo registrarse como pitcher consultá el evento
URL:https://corlab.cordoba.gob.ar/actividad/startupbrite-pitch-to-angel-investors/
CATEGORIES:Evento en línea
ATTACH;FMTTYPE=image/png:https://corlab.cordoba.gob.ar/wp-content/uploads/2023/01/image-3-e1672842188825.png
END:VEVENT
BEGIN:VEVENT
DTSTART;TZID=America/Argentina/Cordoba:20230118T090000
DTEND;TZID=America/Argentina/Cordoba:20230118T100000
DTSTAMP:20260422T123507
CREATED:20230102T220502Z
LAST-MODIFIED:20230102T220505Z
UID:11123-1674032400-1674036000@corlab.cordoba.gob.ar
SUMMARY:Evento: Lanzamiento de startups de Web3
DESCRIPTION:Invitamos a participar el próximo 18 de enero a las 9hs del del lanzamiento virtual del programa BFG Superstars. Esta iniciativa es organizada por BFG Superstars y trabaja con empresarios prometedores para desarrollar ideas de blockchains de alto potencial en los negocios web3 innovadores de la próxima generación. \n\n\n\nEl enfoque del programa es más que construir la idea\, sino también encontrar a las personas adecuadas y experimentadas para crear el mejor equipo fundador. <<Creemos que un equipo fundador fuerte y motivado que trabaja bien en conjunto es el secreto de una startup exitosa>> destacan desde la organización. \n\n\n\nEn esta edición del evento de lanzamiento\, el enfoque está en nuevas empresas en etapa inicial que muestran una gran promesa. Sintoniza nuestro evento para saber de ellos. \n\n\n\nAdemás se presentaran las siguientes startups: \n\n\n\nAplicación THING : solución para la gobernanza y votación de grupos \n\n\n\nSocietal : una cadena de aplicaciones compatible con EVM diseñada para la creación y gestión de DAO. Es un sistema operativo que permitirá una mejor coordinación de la comunidad a través de un producto SaaS B2B. \n\n\n\nQurable : conceptos de membresía y lealtad sobrealimentados\, dirigidos a audiencias específicas a través de tokens y agregando valor ilimitado a las comunidades.
URL:https://corlab.cordoba.gob.ar/actividad/evento-lanzamiento-de-startups-de-web3/
CATEGORIES:Evento en línea
ATTACH;FMTTYPE=image/png:https://corlab.cordoba.gob.ar/wp-content/uploads/2023/01/image-2-e1672697036348.png
END:VEVENT
BEGIN:VEVENT
DTSTART;TZID=America/Argentina/Cordoba:20230124T120000
DTEND;TZID=America/Argentina/Cordoba:20230124T150000
DTSTAMP:20260422T123507
CREATED:20230118T013134Z
LAST-MODIFIED:20230118T013649Z
UID:11196-1674561600-1674572400@corlab.cordoba.gob.ar
SUMMARY:Habilidades para la juventud. Invertir en el capital humano de América Latina
DESCRIPTION:Mientras se reconfigura un nuevo orden social\, económico y político en el mundo postpandemia\, 165 millones de jóvenes de América Latina y el Caribe enfrentan un presente que cambia a toda velocidad\, sin las habilidades que necesitan.    ¿Cómo equipamos a los estudiantes para prosperar y al mismo tiempo reducir la desigualdad en la región? ¿Cómo creamos más oportunidades?  En el Día Internacional de la Educación\, te invitamos a responder estas y otras preguntas. Será un encuentro de líderes globales del sector público y privado y expertos en la agenda para transformar el futuro de la educación con foco en las habilidades del Siglo XXI.   \n\n\n\nCon la participación de ministros de Educación y expertos como:    \n\n\n\n\nJeffrey D. Sachs. Centro para el Desarrollo Sostenible de la Universidad de Columbia/ Presidente de la Red de Soluciones para el Desarrollo Sostenible de la ONU.\n\n\n\nAndreas Schleicher\, Director de Educación y Competencias de la OCDE. \n\n\n\nHarry Anthony Patrinos. Asesor de la Oficina del Economista Jefe para Europa y Asia Central del Banco Mundial. \n\n\n\nAmber Gove\, miembro del Grupo Internacional de Desarrollo y directora de Educación Internacional. \n\n\n\nBen Nelson\, Fundador y Rector de Minerva University. \n\n\n\nRobert E. McGrath\, Profesor de Psicología en la Universidad Fairleigh Dickinson\, y Científico Principal del Instituto VIA sobre el Carácter. \n\n\n\nAlejandro Adler\, Decano de Vida Estudiantil y Bienestar en el Upper Canada College. \n\n\n\n\nEl evento contará con transmisión simultánea al español\, inglés y portugués. 
URL:https://corlab.cordoba.gob.ar/actividad/habilidades-para-la-juventud-invertir-en-el-capital-humano-de-america-latina-y-el-caribe/
CATEGORIES:Evento en línea
ATTACH;FMTTYPE=image/png:https://corlab.cordoba.gob.ar/wp-content/uploads/2023/01/unnamed-18.png
END:VEVENT
END:VCALENDAR