BEGIN:VCALENDAR
VERSION:2.0
PRODID:-//CORLAB - ECPv6.15.20//NONSGML v1.0//EN
CALSCALE:GREGORIAN
METHOD:PUBLISH
X-WR-CALNAME:CORLAB
X-ORIGINAL-URL:https://corlab.cordoba.gob.ar
X-WR-CALDESC:Eventos para CORLAB
REFRESH-INTERVAL;VALUE=DURATION:PT1H
X-Robots-Tag:noindex
X-PUBLISHED-TTL:PT1H
BEGIN:VTIMEZONE
TZID:America/Argentina/Cordoba
BEGIN:STANDARD
TZOFFSETFROM:-0300
TZOFFSETTO:-0300
TZNAME:-03
DTSTART:20220101T000000
END:STANDARD
END:VTIMEZONE
BEGIN:VEVENT
DTSTART;TZID=America/Argentina/Cordoba:20230801T180000
DTEND;TZID=America/Argentina/Cordoba:20230801T190000
DTSTAMP:20260422T082213
CREATED:20230731T134344Z
LAST-MODIFIED:20230731T134348Z
UID:13539-1690912800-1690916400@corlab.cordoba.gob.ar
SUMMARY:#TransformandoCiudades: sumate al tercer encuentro del ciclo sobre Ciudades Inteligentes
DESCRIPTION:Sumate y al 2° Encuentro de Instagram Live “Transformando Ciudades”. En este ciclo de charlas\, ALEJANDRA TORRES secretaria de Planeamiento\, Modernización y RRII conversa con diferentes especialistas de la región sobre novedades e iniciativas acerca de los distintos aspectos que atraviesan y hacen a una Smart City. \n\n\n\nEl tercer encuentro llamado «El desafío de combinar tecnología y trabajo después de los 45» tendrá como invitada a María Eugenia Di Blasi\, Licenciada en Psicología y Psicopedagogía con orientación cognitivo-conductual y Coach Ontológico profesional. Biasi cuenta más de 10 años de experiencia como mentora y facilitadora de talleres de inserción\, reinserción y reinvención laboral ocupacional\, tanto para el sector público\, privado y ONG. En Diagonal Asociación Civil se desempeña como coach y facilitadora de talleres sobre herramientas para la empleabilidad de personas + 45 años y talleres en organizaciones sobre diversidad y convivencia intergeneracional para líderes\, recursos humanos y colaboradores. \n\n\n\nLos encuentros tienen un formato interactivo y son TRANSMITIDOS POR INSTAGRAM LIVE. Sumate el martes 1 de agosto a las 18hs al 3ro de los encuentros de #TransformandoCiudades a través del canal de Instagram de Alejandra Torres. HACE CLIC ACÁ \n\n\n\n\n\n\n\nSobre Transformando Ciudades\n\n\n\nEste ciclo tiene como objetivo profundizar en los diferentes ejes que hacen a una Ciudad Inteligente y algunos casos de éxito de la mano de increíbles expertos en temáticas de Innovación\, GovTech\, Inteligencia Artificial\, Brecha Digital\, Datos y Gobierno Abierto\, Digitalización de Trámites y Servicios\, Ciberseguridad\, Emprendedurismo\, Gestión de Proyectos\, Movilidad Urbana.  \n\n\n\n“Llevar a cabo un proceso de transformación hacia una SmartCity o ciudad inteligente\, consiste en un proceso profundo\, que implica principalmente\, generar un cambio de paradigma en la sociedad y un trabajo en equipo con todas las organizaciones” afirma Alejandra Torres\, cuando explica porqué decidió llevar adelante este ciclo de vivos vía redes sociales. Para acceder al canal de Instagram del ciclo\, ingresa a https://www.instagram.com/aletorres60/
URL:https://corlab.cordoba.gob.ar/actividad/transformandociudades-sumate-al-tercer-encuentro-del-ciclo-sobre-ciudades-inteligentes/
CATEGORIES:Evento en línea
ATTACH;FMTTYPE=image/jpeg:https://corlab.cordoba.gob.ar/wp-content/uploads/2023/07/ciclo-transformando-ciudades-scaled.jpg
END:VEVENT
BEGIN:VEVENT
DTSTART;TZID=America/Argentina/Cordoba:20230815T140000
DTEND;TZID=America/Argentina/Cordoba:20230815T150000
DTSTAMP:20260422T082213
CREATED:20230814T151724Z
LAST-MODIFIED:20230815T163713Z
UID:13641-1692108000-1692111600@corlab.cordoba.gob.ar
SUMMARY:Martes de Ciberseguridad – Segundo Encuentro
DESCRIPTION:¿Sabías que durante la primera mitad de 2022 se registraron 137 mil millones de intentos de ataques cibernéticos en América Latina y el Caribe? ¡Es un incremento del 50% respecto a 2021! México\, Brasil y Colombia fueron los países más afectados. \n\n\n\nEl CÓRDOBA CYBERSECURITY HUB invita a participar de la segunda edición de Martes de Ciberseguridad una iniciativa de Red Ciberlac y BID. La segunda edición de este ciclo tendrá un total de 6 webinars\, que se realizarán del 25 de julio al 28 de noviembre. \n\n\n\nEl próximo martes 15 de agosto a las 14:00 hs tendrá lugar el segundo el webinar del ciclo: “Políticas públicas y marco legal sobre ciberseguridad en América Latina y el Caribe«. En esta sesión se abordarán las experiencias de Costa Rica\, México y Uruguay en el desarrollo de políticas públicas y marcos legales sobre ciberseguridad. \n\n\n\nEl webinar estará a cargo de destacados expertos: \n\n\n\n\nAlejandra Pineda\, directora general de Business Technology & Consulting\, México.\n\n\n\nBárbara Muracciole\, docente de derecho informático\, Facultad de Derecho de la Universidad de la República\, Uruguay.\n\n\n\nRoberto Lemaitre\, profesor investigador en ciberseguridad de la Universidad Nacional\, Costa Rica.\n\n\n\nGustavo Betarte\, presidente de la Red de Excelencia en Ciberseguridad en Latinoamérica y el Caribe (Red Ciberlac).\n\n\n\nSantiago Paz\, especialista de ciberseguridad del BID.\n\n\n\nLiliana Estrada Galindo\, consultora del BID y coordinadora de la Red Ciberlac.\n\n\n\n\nRegistrate haciendo click acá
URL:https://corlab.cordoba.gob.ar/actividad/martes-de-ciberseguridad-segundo-encuentro/
CATEGORIES:Evento en línea
ATTACH;FMTTYPE=image/png:https://corlab.cordoba.gob.ar/wp-content/uploads/2023/08/martes-cybersec-2-e1692026176660.png
END:VEVENT
BEGIN:VEVENT
DTSTART;TZID=America/Argentina/Cordoba:20230816T153000
DTEND;TZID=America/Argentina/Cordoba:20230816T180000
DTSTAMP:20260422T082213
CREATED:20230724T161458Z
LAST-MODIFIED:20230803T133259Z
UID:13505-1692199800-1692208800@corlab.cordoba.gob.ar
SUMMARY:Seminario: la Ciberseguridad en el Comercio y los Servicios
DESCRIPTION:En un mundo cada vez más conectado y digitalizado\, la ciberseguridad se ha convertido en un tema crítico para todas las empresas\, el comercio y los servicios. Las amenazas cibernéticas no distinguen tamaño ni sector\, y cada día son más sofisticadas\, poniendo en riesgo la información confidencial\, los datos de los clientes y la continuidad de las operaciones. Es por eso que desde el Córdoba Cybersecurity Hub te invitamos a participar del seminario «La Ciberseguridad en el comercio y los servicios»\, una iniciativa conjunta con la Cámara de Comercio de Córdoba\, Globant\, Universidad Siglo 21\, Universidad Blas Pascal\, UTN Córdoba\, Córdoba Hackerspace\, La Voz del Interior\, Banco de Córdoba y Smartfense. \n\n\n\nPromover la ciberseguridad en los comercios minoristas es esencial para proteger la información personal de los clientes\, mantener la confianza de los consumidores\, cumplir con las regulaciones\, proteger la reputación del negocio y garantizar la continuidad de las operaciones comerciales. Al tomar en serio la ciberseguridad\, los comercios minoristas pueden protegerse mejor contra las amenazas cibernéticas y salvaguardar su éxito a largo plazo. \n\n\n\nEn este seminario\, expertos en la materia compartirán sus conocimientos y las mejores prácticas para evitar ser víctima de ataques cibernéticos. Aprenderás cómo proteger tus sistemas\, fortalecer tus defensas y prevenir posibles brechas de seguridad.  \n\n\n\nSave the date\n\n\n\nMiércoles 16 de agosto de 15.30 a 18hs en Globant La Docta (Av. Colón 3440).  \n\n\n\nLa inscripción es totalmente gratuita. Reserva tu lugar aquí: HTTPS://BIT.LY/CIBERSEGURIDADCOMERCIO \n\n\n\nAgenda completa\n\n\n\n15:30 hs – Recepción y apertura del evento a cargo de autoridades. \n\n\n\n16:00 hs – Estrategias y consejos para un comercio más ciberseguro por Enrique Dutra (Punto Net) y Carlos Garay (Beygoo). \n\n\n\n16:30 hs – ¿Qué acciones tomar frente a un ciberataque? por Franco Pilnik (Fiscalía Cibercrimen). \n\n\n\n16:50 hs – ¿Por qué la cadena de proveedores puede representar una amenaza de ciberataque para tu negocio? por Guillermo Colsani (Proofpoint). \n\n\n\n17:10 hs – ¿Cómo puedes mejorar tu negocio con biometría y firma segura? por Fernando Patrito (VU Security) y Martín Fernández (VaFirma). \n\n\n\n17:40 hs – Panel de Discusión: ¿Qué están haciendo las Universidades para promover la ciberseguridad? con Fabián Gibellini (UTN)\, Luciano Monchiero (US21)\, Esteban Prospero (UBP). \n\n\n\n\n\n\n\n\n\n\n\n\n\n\n\n\n\n\n\n\n\nSobre el Córdoba Cybersecurity HUB\n\n\n\nEl CÓRDOBA CYBER SECURTIY HUB es una iniciativa de CorLab de Córdoba Acelera y la Secretaría de Planeamiento\, Modernización y Relaciones Internacionales de la Municipalidad de Córdoba. Está integrado por más de 40 miembros\, entre los que se encuentran organizaciones públicas y privadas del sector del conocimiento reunidas con la misión de posicionar a Córdoba como un polo tecnológico referente en materia de Ciberseguridad. Sus integrantes son organizaciones de diversos tipos\, como empresas multinacionales\, startups\, universidades y asociaciones civiles que tienen como misión común preservar la seguridad informática frente a posibles ciberataques. \n\n\n\nDurante el último año\, el Hub de Ciberseguridad de la Municipalidad de Córdoba brindó cursos y programas que permitieron a más de 1.000 cordobeses acceder a capacitaciones sobre seguridad informática. Además\, se vienen desarrollando diferentes actividades para promocionar y potenciar el sector en la ciudad y posicionar a Córdoba como referente en la región.
URL:https://corlab.cordoba.gob.ar/actividad/seminario-la-ciberseguridad-en-el-comercio-y-los-servicios/
CATEGORIES:Evento en línea,Presencial
ATTACH;FMTTYPE=image/png:https://corlab.cordoba.gob.ar/wp-content/uploads/2023/07/Ciberseguridad-en-Comercio-y-Pymes-1920-×-1080-px-e1690215260428.png
END:VEVENT
BEGIN:VEVENT
DTSTART;TZID=America/Argentina/Cordoba:20230823T143000
DTEND;TZID=America/Argentina/Cordoba:20230823T153000
DTSTAMP:20260422T082213
CREATED:20230818T151519Z
LAST-MODIFIED:20230822T123023Z
UID:13674-1692801000-1692804600@corlab.cordoba.gob.ar
SUMMARY:Webinar: Córdoba Capital del Conocimiento
DESCRIPTION:Sumáte el próximo miércoles 23 de agosto al Webinar Córdoba Capital del Conocimiento. Accedé a más información sobre el programa que propone una serie de beneficios tributarios para las personas jurídicas radicadas en Córdoba inscriptas en el Registro de Beneficiarios de la Economía del Conocimiento Municipal (RECOM). \n\n\n\nInscripciones acá \n\n\n\n¿Qué es el Régimen de Promoción a las Nuevas Inversiones en Economía del Conocimiento?\n\n\n\nEste régimen\, sancionado por el Concejo Deliberante en la ordenanza 13.311\, propone una serie de beneficios tributarios para las personas jurídicas radicadas en la ciudad que se inscriban en el Registro de Beneficiarios de la Economía del Conocimiento Municipal (RECOM). \n\n\n\nSe trata de una iniciativa de la Municipalidad de Córdoba que busca incentivar las actividades económicas vinculadas a la tecnología\, la información y el conocimiento para la producción de bienes y servicios. Su objetivo impulsar el desarrollo económico agregando valor a la matriz productiva local y crear empleo de calidad en la ciudad. \n\n\n\n“En Córdoba tienen la posibilidad de crecer\, en un ambiente espectacular\, porque Córdoba conjuga la potencia universitaria con una ciudad vivible y un ecosistema emprendedor. Córdoba no tiene competencia”\, aseguró Llaryora. \n\n\n\nY añadió: “En el entorno cada vez se pide más\, no solo condiciones laborales\, sino condiciones de vida. Y en Córdoba están todas las posibilidades: vinculadas a la calidad de vida y vinculadas a la calidad científico-tecnológica para que las empresas no paren de crecer”. \n\n\n\nEntre otros beneficios\, este régimen de la Municipalidad de Córdoba incluye:\n\n\n\n\nEstabilidad fiscal en contribuciones municipales por hasta 10 años\, exención de pago por hasta 10 años y hasta de un 100 % respecto a contribuciones que se establezcan por vía reglamentaria.\n\n\n\nExención de pago por hasta 10 años y de hasta un 100% respecto de la contribución que incide sobre la Actividad Comercial\, Industrial y de Servicios.\n\n\n\nExención de pago por hasta 10 años y de hasta un 100% respecto de la contribución que incide sobre Vehículos Automotores\, Acoplados y Similares.\n\n\n\nExención de pago por hasta 10 años y de hasta un 100% respecto de la contribución que incide sobre los Inmuebles destinado o afectados a la explotación promovida.\n\n\n\nAdemás\, la ordenanza establece la creación de un Consejo de Expertos\, que estará integrado por representantes del sector privado\, instituciones académicas y otros miembros ligados a la temática.
URL:https://corlab.cordoba.gob.ar/actividad/webinar-cordoba-capital-del-conocimiento/
CATEGORIES:Evento en línea
ATTACH;FMTTYPE=image/png:https://corlab.cordoba.gob.ar/wp-content/uploads/2023/08/FLYER-CBA-CAPITAL-DEL-CONOCIMIENTO-sin-inscripciones-e1692371579759.png
END:VEVENT
END:VCALENDAR