BEGIN:VCALENDAR
VERSION:2.0
PRODID:-//CORLAB - ECPv6.15.20//NONSGML v1.0//EN
CALSCALE:GREGORIAN
METHOD:PUBLISH
X-ORIGINAL-URL:https://corlab.cordoba.gob.ar
X-WR-CALDESC:Eventos para CORLAB
REFRESH-INTERVAL;VALUE=DURATION:PT1H
X-Robots-Tag:noindex
X-PUBLISHED-TTL:PT1H
BEGIN:VTIMEZONE
TZID:America/Argentina/Cordoba
BEGIN:STANDARD
TZOFFSETFROM:-0300
TZOFFSETTO:-0300
TZNAME:-03
DTSTART:20230101T000000
END:STANDARD
END:VTIMEZONE
BEGIN:VEVENT
DTSTART;TZID=America/Argentina/Cordoba:20240124T110000
DTEND;TZID=America/Argentina/Cordoba:20240124T123000
DTSTAMP:20260422T151359
CREATED:20240117T193259Z
LAST-MODIFIED:20240117T193516Z
UID:14891-1706094000-1706099400@corlab.cordoba.gob.ar
SUMMARY:Innovando juntos para los servicios públicos del futuro
DESCRIPTION:El miércoles 24 de enero te invitamos a conocer las reflexiones y resultados del taller “Innovando juntos para los servicios públicos del futuro”\, realizado por el OECD Observatory of Public Sector Innovation y el Laboratorio de Gobierno de Chile durante el EIP 23  \n\n\n\nLa presentación de los resultados serán comentados por el equipo del Lab y Bruno Monteiro\, Analista de Políticas de la OPSI. \n\n\n\nDescarga el onepager y únete a la conversación aquí.
URL:https://corlab.cordoba.gob.ar/actividad/innovando-juntos-para-los-servicios-publicos-del-futuro/
CATEGORIES:Evento en línea
ATTACH;FMTTYPE=image/jpeg:https://corlab.cordoba.gob.ar/wp-content/uploads/2024/01/dfd0a871ba5f14425a04f25c76fa6552.jpeg
END:VEVENT
BEGIN:VEVENT
DTSTART;TZID=America/Argentina/Cordoba:20240131T110000
DTEND;TZID=America/Argentina/Cordoba:20240131T123000
DTSTAMP:20260422T151359
CREATED:20240119T134202Z
LAST-MODIFIED:20240119T150141Z
UID:14910-1706698800-1706704200@corlab.cordoba.gob.ar
SUMMARY:Lanzamiento Fellows GovTech
DESCRIPTION:¿Eres un apasionado por la innovación en el sector público? El programa de Fellows Govtech LATAM de BID Lab te ofrece la oportunidad de ampliar tus capacidades y replicar el conocimiento en tu país. \n\n\n\nDestinado a profesionales con experiencia en áreas clave como Innovación\, Transformación Digital y Ecosistema Emprendedor. \n\n\n\nAl convertirte en Fellow\, no solo formarás parte de un programa de capacitación online diseñado específicamente para promover soluciones tecnológicas innovadoras\, sino que también serás reconocido en el ecosistema GovTech de la región. \n\n\n\n¿Te gustaría destacar como líder?Únete a nosotros el 31 de enero a las 11AM en el webinar informativo de Govtech Latam. \n\n\n\n\nRegístrate aquí\n\n\n\n\n\n\n\n\nGovtech LATAM de BID Lab: Un programa potenciado por Inter-American Development Bank y IDB Lab en colaboración con el IE PublicTech Lab y Center for the Governance of Change.
URL:https://corlab.cordoba.gob.ar/actividad/lanzamiento-fellows-govtech/
CATEGORIES:Evento en línea
ATTACH;FMTTYPE=image/jpeg:https://corlab.cordoba.gob.ar/wp-content/uploads/2024/01/GEJSttaXsAEGRYT.jpeg
END:VEVENT
END:VCALENDAR