BEGIN:VCALENDAR
VERSION:2.0
PRODID:-//CORLAB - ECPv6.15.20//NONSGML v1.0//EN
CALSCALE:GREGORIAN
METHOD:PUBLISH
X-ORIGINAL-URL:https://corlab.cordoba.gob.ar
X-WR-CALDESC:Eventos para CORLAB
REFRESH-INTERVAL;VALUE=DURATION:PT1H
X-Robots-Tag:noindex
X-PUBLISHED-TTL:PT1H
BEGIN:VTIMEZONE
TZID:America/Argentina/Cordoba
BEGIN:STANDARD
TZOFFSETFROM:-0300
TZOFFSETTO:-0300
TZNAME:-03
DTSTART:20230101T000000
END:STANDARD
END:VTIMEZONE
BEGIN:VEVENT
DTSTART;TZID=America/Argentina/Cordoba:20240410T143000
DTEND;TZID=America/Argentina/Cordoba:20240410T143000
DTSTAMP:20260422T191532
CREATED:20240410T142419Z
LAST-MODIFIED:20240410T142422Z
UID:15686-1712759400-1712759400@corlab.cordoba.gob.ar
SUMMARY:Sesión Informativa sobre Programas de Incubación y Aceleración de CleantechHUB
DESCRIPTION:¿Estas interesado/a\, o conoces a alguien que pueda interersarle\, participar en los Programas de Incubación y Aceleración de CleantechHUB? \n\n\n\n‌ \n\n\n\nEl Programa de Incubación\, es un proceso de 8 semanas\, en el que guiamos a mentes brillantes con ideas en servilleta o ya en proceso de MVP (Producto Mínimo Viable) buscando crear impacto positivo en el clima a través de la creación de empresa. \n\n\n\n‌ \n\n\n\nBrinda a los participantes recursos de formación\, mentoría\, orientación y oportunidades para que sus ideas de negocio relacionadas con el clima\, se validen\, evolucionen\, salgan al mercado y prosperen\, a partir de un modelo de negocio atractivo y ejecutable. \n\n\n\n‌ \n\n\n\n\n\n\n\nEn el Programa de Aceleración\, se trabaja durante 24 semanas (2 fases de 12 semanas) con los y las founders de comprometidos por impulsar la nueva generación de empresas innovadoras y transformadoras creadoras de impacto climático. Guíamos a estos empresarios y empresarias a acelerar su negocio al ritmo que lo necesita el planeta. \n\n\n\n \n\n\n\nBrinda a los participantes recursos de formación\, mentoría\, orientación y oportunidades de conexión para superar desafíos comunes y acelerar su crecimiento. \n\n\n\n \n\n\n\nAdemás\, estos programas son la puerta a la Comunidad Regional de CleantechHUB\, donde se comparte la misma misión de crear con impacto un futuro regenerativo\, sostenible e inclusivo. \n\n\n\n \n\n\n\nTe invitamos a registrarte a la Sesión Informativa el 10 de Abril. Será una sesión virtual e interactiva en la que te explicaremos la estructura de los programas. \n\n\n\n\nInscripciones
URL:https://corlab.cordoba.gob.ar/actividad/sesion-informativa-sobre-programas-de-incubacion-y-aceleracion-de-cleantechhub/
CATEGORIES:Evento en línea
ATTACH;FMTTYPE=image/jpeg:https://corlab.cordoba.gob.ar/wp-content/uploads/2024/04/unnamed-2-scaled.jpg
END:VEVENT
BEGIN:VEVENT
DTSTART;TZID=America/Argentina/Cordoba:20240411T100000
DTEND;TZID=America/Argentina/Cordoba:20240411T110000
DTSTAMP:20260422T191532
CREATED:20240408T182903Z
LAST-MODIFIED:20240409T131007Z
UID:15657-1712829600-1712833200@corlab.cordoba.gob.ar
SUMMARY:Conversatorio. Conoce nuestro Bootcamp Govtech 2024: aprende a vender y trabajar con el sector público en LATAM
DESCRIPTION:GovTech LATAM lanza un Bootcamp GovTech 2024\, que será completamente gratuito\, y en el que 40 startups tendrán la posibilidad de entrenarse para vender tecnología al sector público de Latinoamérica\, mentoreados por los mejores speakers internacionales. \n\n\n\nLa próxima semana en el GovTech LATAM Talk de este mes\, estarán conversando con Nicolás Salazar Cardona\, Líder de Startups y Ecosistema y Rocio Suanzes\, Directora Operativa de GovTech LATAM\, sobre el próximo #Bootcamp #GovTech del programa. \n\n\n\nLos invitamos a conocer cómo funciona un Bootcamp GovTech\, cuál es el conocimiento que se ofrece y qué tipo de expertos nos acompañaran en estas sesiones. \n\n\n\n\n\n\n\n\n\n \n\n\n\n\nINSCRIPCION AL EVENTO
URL:https://corlab.cordoba.gob.ar/actividad/conversatorio-conoce-nuestro-bootcamp-govtech-2024-aprende-a-vender-y-trabajar-con-el-sector-publicos-en-latam/
CATEGORIES:Evento en línea
ATTACH;FMTTYPE=image/jpeg:https://corlab.cordoba.gob.ar/wp-content/uploads/2024/04/WhatsApp-Image-2024-04-04-at-5.46.59-PM-scaled.jpeg
END:VEVENT
BEGIN:VEVENT
DTSTART;TZID=America/Argentina/Cordoba:20240423T190000
DTEND;TZID=America/Argentina/Cordoba:20240423T190000
DTSTAMP:20260422T191532
CREATED:20240422T204617Z
LAST-MODIFIED:20240422T204620Z
UID:15866-1713898800-1713898800@corlab.cordoba.gob.ar
SUMMARY:DISEÑO PARA LA INNOVACIÓN DISTRIBUIDA
DESCRIPTION:En el marco del nuevo Master 2024\, IAAC’s Master in Advanced Architecture y Mddi-fabcity estarán hablando sobre el diseño para la innovación distribuida\, centrado en crear sistemas\, productos o servicios que fomenten la participación y la colaboración de una amplia red de personas o comunidades dispersas geográficamente en el mundo. Este enfoque reconoce que el conocimiento y la creatividad no están limitados a un solo lugar o grupo de expertos\, sino que pueden encontrarse en diversas partes del mundo.  \n\n\n\nAl aplicar estos principios\, el diseño para la innovación distribuida puede conducir a soluciones más inclusivas y sostenibles que aprovechan la diversidad\, la tecnología\, los recursos naturales y  las comunidades locales conectadas con una red global de colaboradores. \n\n\n\n\n\n\n\nSpeakers:* Bienvenida Josefina Nano – España / Argentina ???????? ???????? * Introducción General Tomas Vivanco – Chile * Alvaro Toledo – Argentina * Victor Freundt – Perú  * Preguntas – Modera Josefina Nano\n\n\n\n\nInscripciones
URL:https://corlab.cordoba.gob.ar/actividad/diseno-para-la-innovacion-distribuida/
CATEGORIES:Evento en línea
ATTACH;FMTTYPE=image/jpeg:https://corlab.cordoba.gob.ar/wp-content/uploads/2024/04/01.jpg
END:VEVENT
END:VCALENDAR