BEGIN:VCALENDAR
VERSION:2.0
PRODID:-//CORLAB - ECPv6.15.20//NONSGML v1.0//EN
CALSCALE:GREGORIAN
METHOD:PUBLISH
X-WR-CALNAME:CORLAB
X-ORIGINAL-URL:https://corlab.cordoba.gob.ar
X-WR-CALDESC:Eventos para CORLAB
REFRESH-INTERVAL;VALUE=DURATION:PT1H
X-Robots-Tag:noindex
X-PUBLISHED-TTL:PT1H
BEGIN:VTIMEZONE
TZID:America/Argentina/Cordoba
BEGIN:STANDARD
TZOFFSETFROM:-0300
TZOFFSETTO:-0300
TZNAME:-03
DTSTART:20230101T000000
END:STANDARD
END:VTIMEZONE
BEGIN:VEVENT
DTSTART;TZID=America/Argentina/Cordoba:20240502T100000
DTEND;TZID=America/Argentina/Cordoba:20240502T110000
DTSTAMP:20260422T203725
CREATED:20240416T141506Z
LAST-MODIFIED:20240502T134526Z
UID:15771-1714644000-1714647600@corlab.cordoba.gob.ar
SUMMARY:Superando los desafíos en la formulación de retos públicos | Govtech LATAM Talk
DESCRIPTION:CorLab te invita a una nueva charla Govtech.  \n\n\n\n\n\n\n\n\n\nSpekears:Javier Pastorino – Coordinador del programa Innovación pública e Industrias Creativas en ANII\, UruguayHanna Noriko Chiku Kassner – Profesional de Innovación en iNNpulsa ColombiaOrlando Rojas – Director ejecutivo del Laboratorio de Gobierno de Chile \n\n\n\n \n\n\n\nModeradora: Jimena Aucique – Líder de Diseño & Ciudades en Govtech LATAM de BID Lab \n\n\n\n????️¿Cuándo? Mayo 2\, 2024⏱️¿Hora? 10AM (GMT-5) \n\n\n\nSeguimos creciendo el ecosistema GovTech de América Latina ???? \n\n\n\n\nInscripciones
URL:https://corlab.cordoba.gob.ar/actividad/superando-los-desafios-en-la-formulacion-de-retos-publicos-govtech-latam-talk/
CATEGORIES:Evento en línea
ATTACH;FMTTYPE=image/jpeg:https://corlab.cordoba.gob.ar/wp-content/uploads/2024/04/1712676040880-scaled.jpg
END:VEVENT
BEGIN:VEVENT
DTSTART;TZID=America/Argentina/Cordoba:20240514T163000
DTEND;TZID=America/Argentina/Cordoba:20240514T180000
DTSTAMP:20260422T203725
CREATED:20240513T164259Z
LAST-MODIFIED:20240513T164301Z
UID:16174-1715704200-1715709600@corlab.cordoba.gob.ar
SUMMARY:Usina Emprendedora: el ABC para generar contenidos digitales
DESCRIPTION:El Club de Emprendedores continua con el ciclo Usina Emprendedora\, que esta semana llega con una invitación imperdible para todos/as los emprendedores que quieren reforzar sus conocimientos y aprender nuevas herramientas para la generación de contenido digital interactivo. \n\n\n\nOrientado a emprendedores productivos que consideren que necesitan desarrollar y mejorar su estrategia de generación de contenidos de calidad y con alto engagement para sus seguidores en redes sociales. En este taller teórico-práctico aprenderás a generar contenidos que permitan llegar de manera más afectiva tus clientes y que potencien su interacción.  En la Usina de este martes llega un ABC para aprender herramientas clave y explotar mejor las redes de tu emprendimiento.  \n\n\n\nLa capacitación estará liderada por la experta Anita Barrera Balcazario (@anitadelasredes). Anita trabajó en Mazalán Comunicaciones en el rubro de marketing digital y actualmente es consultora experta y docente de Marketing y Relaciones Públicas.  \n\n\n\n????Martes 14 de mayo  \n\n\n\n???? 16:30 hs. \n\n\n\n???? Sala 2 – Caseros 356 \n\n\n\n✅Cupos limitados – Registrate acá: https://bit.ly/usinaemprendedora  \n\n\n\n¡No te pierdas esta oportunidad para darle a tus redes el vuelo que necesitan! ¡Te esperamos en la #UsinaEmprendedora! \n\n\n\n\n\n\n\n¿Qué es Usina Emprendedora?\n\n\n\nLos días martes de cada semana\, a las 16.30 horas\, podrás acercarte de manera presencial a la sede del Club de Emprendedores (Caseros 356 – B° Centro) para aprender una herramienta de gestión de negocios diferente. En las capacitaciones magistrales se enseñan conceptos teóricos clave de la temática que se comunica previamente y se mantiene un segmento práctico que incluye preguntas y respuestas\, donde los participantes pueden despejar dudas y adquirir herramientas personalizadas para sus emprendimientos junto a los capacitadores expertos del ecosistema emprendedor.  \n\n\n\nEl registro es completamente abierto y gratuito completando el FORMULARIO DE INSCRIPCIÓN del CLUB DE EMPRENDEDORES. La duración de cada encuentro es de 2 horas y si te inscribes debes tener la disponibilidad para compartir la experiencia completa de ese día.  \n\n\n\nSobre el Club de Emprendedores de Córdoba \n\n\n\nEl CLUB DE EMPRENDEDORES DE CÓRDOBA es co-gestionado por la FUNDACIÓN GLOBAL SHAPERS y CORLAB – SEC. DE CIUDAD INTELIGENTE y Transformación Digital de la MUNICIPALIDAD DE CÓRDOBA. Desde su reapertura en su nueva sede de caseros 356 en el año 2022\, el Club de Emprendedores de Córdoba ya capacitó a más de 10.000 emprendedores cordobeses mediante sus programas abiertos y gratuitos para la comunidad emprendedora de Córdoba. \n\n\n\n¡Enterate de todas las oportunidades y unite a la comunidad del Club en su cuenta de instagram @CLUBDEEMPRENDEDORESCBA! 
URL:https://corlab.cordoba.gob.ar/actividad/usina-emprendedora-el-abc-para-generar-contenidos-digitales/
CATEGORIES:Evento en línea
ATTACH;FMTTYPE=image/png:https://corlab.cordoba.gob.ar/wp-content/uploads/2024/05/usina-emprendedora-feed.ai-2-e1715618438899.png
END:VEVENT
BEGIN:VEVENT
DTSTART;TZID=America/Argentina/Cordoba:20240517T080000
DTEND;TZID=America/Argentina/Cordoba:20240517T170000
DTSTAMP:20260422T203725
CREATED:20240517T103028Z
LAST-MODIFIED:20240517T103032Z
UID:16217-1715932800-1715965200@corlab.cordoba.gob.ar
SUMMARY:Webinar ‘La tecnología rompe barreras’
DESCRIPTION:La ONCE pide a los expertos en tecnologías que diseñen siempre productos accesibles. Con motivo del #DíaDeInternet\, celebramos el webinar ‘La tecnología rompe barreras’ en nuestro canal de YouTube\, el 21 de mayo a las 8 a.m. (Argentina): https://lnkd.in/dy9tyTQH \n\n\n\nPorque las personas ciegas o con discapacidad visual grave no pueden encontrar en la tecnología y el acceso a Internet barreras que les impiden igualdad a la hora de utilizar bienes y servicios. Por eso\, reclamamos a los expertos relacionados con la Red que incluyan siempre la accesibilidad como clave de sus diseños. \n\n\n\nLa accesibilidad en la tecnología es clave\, porque “permite que las personas con discapacidad estemos en igualdad de condiciones que el resto de la sociedad”\, declara #CarmenMillán\, directora de Autonomía Personal\, Tecnología y Accesibilidad y del #CTI de la ONCE. “Desde la ONCE tenemos clara la importancia de seguir trabajando\, tanto interna como externamente\, para conseguir que los profesionales\, los estudiantes\, la sociedad en general\, entienda qué significa un diseño universal para todos apoyado en la accesibilidad”. \n\n\n\nDesde el Centro de Tiflotecnología e Innovación #CTI\, entre otras muchas tareas\, trabajamos para sensibilizar y asesorar a entidades públicas y privadas sobre cómo abordar la #accesibilidad.
URL:https://corlab.cordoba.gob.ar/actividad/webinar-la-tecnologia-rompe-barreras/
CATEGORIES:Evento en línea
ATTACH;FMTTYPE=image/jpeg:https://corlab.cordoba.gob.ar/wp-content/uploads/2024/05/1715926686185-scaled.jpeg
END:VEVENT
END:VCALENDAR