BEGIN:VCALENDAR
VERSION:2.0
PRODID:-//CORLAB - ECPv6.15.20//NONSGML v1.0//EN
CALSCALE:GREGORIAN
METHOD:PUBLISH
X-ORIGINAL-URL:https://corlab.cordoba.gob.ar
X-WR-CALDESC:Eventos para CORLAB
REFRESH-INTERVAL;VALUE=DURATION:PT1H
X-Robots-Tag:noindex
X-PUBLISHED-TTL:PT1H
BEGIN:VTIMEZONE
TZID:America/Argentina/Cordoba
BEGIN:STANDARD
TZOFFSETFROM:-0300
TZOFFSETTO:-0300
TZNAME:-03
DTSTART:20210101T000000
END:STANDARD
END:VTIMEZONE
BEGIN:VEVENT
DTSTART;TZID=America/Argentina/Cordoba:20221207T103000
DTEND;TZID=America/Argentina/Cordoba:20221207T120000
DTSTAMP:20260422T151553
CREATED:20221201T124435Z
LAST-MODIFIED:20221201T131308Z
UID:10713-1670409000-1670414400@corlab.cordoba.gob.ar
SUMMARY:Webinar: ¿Cómo desarrollar ciudades más inteligentes y ciberseguras?
DESCRIPTION:La pandemia de COVID-19 contribuyó a acelerar la transformación digital de las ciudades de América Latina y el Caribe\, pero también supuso grandes retos y generó oportunidades y espacios de aprendizaje. El proceso de recuperación ha dado lugar a la generación masiva de datos (Big Data) los cuales\, acompañados de herramientas de análisis e inteligencia artificial\, tienen el potencial de resolver grandes problemas urbanos\, apoyar la toma de decisiones\, la generación de conocimiento y la formulación de políticas públicas basadas en la evidencia. \n\n\n\nEn este contexto\, te invitamos a participar del webinar América Latina y el Caribe hacia una región inteligente y cibersegura\, ¡con datos! organizado por la Red de Ciudades del BID. En este espacio virtual se compartirán ejemplos de iniciativas del BID y de expertos internacionales de Argentina\, Uruguay\, Brasil y Colombia sobre ciberseguridad y transformación digital con uso de datos\, para desarrollar ciudades más inteligentes. Además\, se presentará el caso de la Ciudad de Córdoba\, presentado por Alejandra Torres\, secretaria de Planeamiento\, Modernizacion y Relaciones Internacionales de la Municipalidad de Córdoba.
URL:https://corlab.cordoba.gob.ar/actividad/webinar-como-desarrollar-ciudades-mas-inteligentes-y-ciberseguras/
CATEGORIES:Evento en línea
ATTACH;FMTTYPE=image/jpeg:https://corlab.cordoba.gob.ar/wp-content/uploads/2022/12/evento1-scaled-e1669898638530.jpg
END:VEVENT
BEGIN:VEVENT
DTSTART;TZID=America/Argentina/Cordoba:20221207T120000
DTEND;TZID=America/Argentina/Cordoba:20221207T133000
DTSTAMP:20260422T151553
CREATED:20221201T131056Z
LAST-MODIFIED:20221201T131449Z
UID:10720-1670414400-1670419800@corlab.cordoba.gob.ar
SUMMARY:Webinar: Mujeres Líderes en el Sector Público de América Latina y el Caribe 
DESCRIPTION:¿Sabías que\, a pesar del avance de la región en materia de paridad de género\, solo 1 de cada 4 puestos de alto liderazgo en la Administración pública son ocupados por mujeres? \n\n\n\nTe invitamos a participar el próximo 7 de diciembre a las 12hs del webinar de lanzamiento del nuevo estudio realizado por el BID  “Mujeres líderes en el sector público de América Latina y el Caribe: Brechas y oportunidades ” que examina la participación de las mujeres en puestos de liderazgo en las Administraciones públicas centrales de quince países de la región\, con datos segregados por país\, agencia de gobierno y nivel jerárquico.Durante el evento\, altas autoridades de la región discutirán los resultados del estudio e intercambiarán recomendaciones sobre la implementación de políticas de género para garantizar la paridad en la gestión pública y fortalecer la capacidad institucional para aprovechar el talento de las mujeres en la región.¡No te pierdas de este evento único!
URL:https://corlab.cordoba.gob.ar/actividad/webinar-mujeres-lideres-en-el-sector-publico-de-america-latina-y-el-caribe/
CATEGORIES:Evento en línea
ATTACH;FMTTYPE=image/jpeg:https://corlab.cordoba.gob.ar/wp-content/uploads/2022/12/evento2-e1669900251208.jpg
END:VEVENT
END:VCALENDAR