BEGIN:VCALENDAR
VERSION:2.0
PRODID:-//CORLAB - ECPv6.15.20//NONSGML v1.0//EN
CALSCALE:GREGORIAN
METHOD:PUBLISH
X-WR-CALNAME:CORLAB
X-ORIGINAL-URL:https://corlab.cordoba.gob.ar
X-WR-CALDESC:Eventos para CORLAB
REFRESH-INTERVAL;VALUE=DURATION:PT1H
X-Robots-Tag:noindex
X-PUBLISHED-TTL:PT1H
BEGIN:VTIMEZONE
TZID:America/Argentina/Cordoba
BEGIN:STANDARD
TZOFFSETFROM:-0300
TZOFFSETTO:-0300
TZNAME:-03
DTSTART:20210101T000000
END:STANDARD
END:VTIMEZONE
BEGIN:VEVENT
DTSTART;TZID=America/Argentina/Cordoba:20221220T100000
DTEND;TZID=America/Argentina/Cordoba:20221220T110000
DTSTAMP:20260422T151429
CREATED:20221214T153346Z
LAST-MODIFIED:20230102T183130Z
UID:10838-1671530400-1671534000@corlab.cordoba.gob.ar
SUMMARY:Webinar Informativo: Programa Silvertech
DESCRIPTION:¡Atención empresas! La Municipalidad invita a reunión virtual informativa sobre el programa Silvertech: iniciativa para la inserción laboral de mayores de 50 años. La invitación es abierta este martes 20 de diciembre a las 10 hs. \n\n\n\nEn el marco del Programa “Menos brecha\, más comunidad”\, la Municipalidad de Córdoba a través de la Secretaría de Planeamiento\, Modernización\, y Relaciones Internacionales\, se suma a la comunidad de aliados del proyecto “SilverTech: Apalancando el talento y la experiencia de los adultos mayores de 50 años mediante el uso de la tecnología”. \n\n\n\nEsta iniciativa fue creada por el BID Lab y Eidos Global\, con el acompañamiento de Diagonal Asociación Civil. La iniciativa tiene a su vez el apoyo de los gigantes tecnológicos Accenture\, Google\, Microsoft\, Salesforce y Red Hat. \n\n\n\nLa iniciativa se propone capacitar y formar en habilidades digitales a la población mayor de 50 años que se encuentre en situación de desempleo\, con un empleo precarizado\, o esté en la búsqueda de cambiar de trabajo\, de puesto o reincorporarse al mundo laboral. \n\n\n\nBeneficios para empresas\n\n\n\nDesde el proyecto se propone crear una comunidad de empresas y organizaciones que se comprometan con liderar un cambio de paradigma en la búsqueda y contratación de personas mayores de 50 años. En ese sentido\, la Municipalidad de Córdoba\, a través de la Secretaría de Planeamiento\, Modernización y Relaciones Internacionales\, ofrecerá un webinar informativo el próximo martes 20 de diciembre\, a las 10 hs. \n\n\n\nEsta instancia informativa está dirigida a empresarios\, responsables de áreas de Recursos Humanos y Responsabilidad Social\, a fin de acercar esta propuesta de Silvertech. Se presentarán las distintas actividades que se ofrecen a las empresas\, como jornadas de sensibilización\, realización de un autodiagnóstico de diversidad etaria\, acceso a la oferta de cursos\, participación en espacios de networking\, programa de voluntariado corporativo en acompañamiento a la empleabilidad de los participantes\, acceso a los perfiles capacitados para lograr inserciones laborales\, etc. \n\n\n\nAlejandra Torres\, la Secretaria de Planeamiento\, Modernización y Relaciones Internacionales del municipio cordobés afirma “Con la adhesión a Silvertech\, esta nueva iniciativa de Bid Lab\, nos sumamos a promover la inserción laboral de las personas mayores de 50 años\, y a introducir a los empresarios en programas de inclusión de este grupo etario\, que muchas veces queda afuera de las nuevas búsquedas laborales\, y que tiene tanto para aportar”. \n\n\n\nPara participar del Webinar informativo\, INSCRIBIRSE EN ESTE LINK
URL:https://corlab.cordoba.gob.ar/actividad/webinar-informativo-programa-silvertech/
CATEGORIES:Evento en línea
ATTACH;FMTTYPE=image/jpeg:https://corlab.cordoba.gob.ar/wp-content/uploads/2022/12/silvertech-scaled-e1671031995503.jpg
END:VEVENT
END:VCALENDAR