BEGIN:VCALENDAR
VERSION:2.0
PRODID:-//CORLAB - ECPv6.15.20//NONSGML v1.0//EN
CALSCALE:GREGORIAN
METHOD:PUBLISH
X-WR-CALNAME:CORLAB
X-ORIGINAL-URL:https://corlab.cordoba.gob.ar
X-WR-CALDESC:Eventos para CORLAB
REFRESH-INTERVAL;VALUE=DURATION:PT1H
X-Robots-Tag:noindex
X-PUBLISHED-TTL:PT1H
BEGIN:VTIMEZONE
TZID:America/Argentina/Cordoba
BEGIN:STANDARD
TZOFFSETFROM:-0300
TZOFFSETTO:-0300
TZNAME:-03
DTSTART:20220101T000000
END:STANDARD
END:VTIMEZONE
BEGIN:VEVENT
DTSTART;TZID=America/Argentina/Cordoba:20230201T090000
DTEND;TZID=America/Argentina/Cordoba:20230201T110000
DTSTAMP:20260422T125931
CREATED:20230102T215425Z
LAST-MODIFIED:20230102T215428Z
UID:11119-1675242000-1675249200@corlab.cordoba.gob.ar
SUMMARY:Webinar: Innovación\, Tecnología\, Digitalización
DESCRIPTION:La innovación es una pieza clave\, para poder enfrentar los retos dentro de un entorno cambiante. Invitamos a nuestra comunidad a participar el próximo miércoles 1 de febrero del Webinar: Innovación\, Tecnología\, Digitalización.  \n\n\n\nEste evento es organizado por mentorDay\, una asociación sin ánimo de lucro para emprendedores que necesiten apoyo\, formación\, acompañamiento y todas aquellas herramientas que necesiten para poner en marcha sus proyectos y estén interesados en el autoempleo. \n\n\n\nSobre el webinar\n\n\n\nLa innovación es el verdadero motor de crecimiento de la empresa. En este taller se impartirá una sesión teórica para conocer y aprender conceptos básicos de la Innovación Corporativa. Se trabajará en salas para potenciar el aprendizaje grupal. Al finalizar el taller\, el emprendedor será capaz de diseñar y construir su “Plan de Innovación y Digitalización” para lograr la escalabilidad de su negocio. El taller será dictado por Mertxe Idoate\, Business Coach especializada en Startups.
URL:https://corlab.cordoba.gob.ar/actividad/webinar-innovacion-tecnologia-digitalizacion/
CATEGORIES:Evento en línea
ATTACH;FMTTYPE=image/png:https://corlab.cordoba.gob.ar/wp-content/uploads/2023/01/image.png
END:VEVENT
END:VCALENDAR