BEGIN:VCALENDAR
VERSION:2.0
PRODID:-//CORLAB - ECPv6.15.20//NONSGML v1.0//EN
CALSCALE:GREGORIAN
METHOD:PUBLISH
X-ORIGINAL-URL:https://corlab.cordoba.gob.ar
X-WR-CALDESC:Eventos para CORLAB
REFRESH-INTERVAL;VALUE=DURATION:PT1H
X-Robots-Tag:noindex
X-PUBLISHED-TTL:PT1H
BEGIN:VTIMEZONE
TZID:America/Argentina/Cordoba
BEGIN:STANDARD
TZOFFSETFROM:-0300
TZOFFSETTO:-0300
TZNAME:-03
DTSTART:20220101T000000
END:STANDARD
END:VTIMEZONE
BEGIN:VEVENT
DTSTART;TZID=America/Argentina/Cordoba:20230510T110000
DTEND;TZID=America/Argentina/Cordoba:20230510T130000
DTSTAMP:20260422T082831
CREATED:20230502T140621Z
LAST-MODIFIED:20230502T140653Z
UID:12746-1683716400-1683723600@corlab.cordoba.gob.ar
SUMMARY:Lanzamiento: Guía de Intervenciones en Espacios Públicos de CAF
DESCRIPTION:Invitamos a nuestra comunidad al lanzamiento de la Guía de Intervenciones en Espacios Públicos\, una publicación de CAF – Banco de Desarrollo de América Latina – que promueve la inclusión social\, la economía creativa y el cuidado ambiental a través de intervenciones en espacios públicos. \n\n\n\nEl evento se llevará a cabo el miércoles 10 de mayo a las 11hs de manera virtual. La guía será presentada por Emil Rodríguez Garabot\, Director de Hábitat y Movilidad Sostenible de CAF\, y María Alegre\, Directora Ejecutiva de Lima Cómo Vamos de Perú. Además\, se llevará a cabo un conversatorio moderado por Angie Palacios\, Ejecutiva Principal de la Dirección de Hábitat y Movilidad Urbana Sostenible de CAF\, con la participación de expertos en el tema como Adriana Sansão\, profesora PROURB-FAU/UFRJ y Coordinadora LabIT-PRO. \n\n\n\nRegristrate aQuí para participar del lanzamiento \n\n\n\nSobre la Guía de intervenciones en espacios públicos\n\n\n\nLa Guía de intervenciones en espacios públicos propone una mirada integral sobre la estructuración y el diseño de espacios públicos\, basada en la autonomía de los gobiernos locales para gestionar infraestructura social\, planificados y diseñados con las personas usuarias y en dialogo con el sector privado y la sociedad civil. \n\n\n\nEsta guía parte de la premisa de que para generar un desarrollo urbano sostenible es necesario que se pondere la multiplicidad de efectos que producen las intervenciones en el territorio en términos de inclusión social\, en las dinámicas económicas y en los aspectos ambientales. Dar atributos de calidad a una intervención de espacios públicos requiere de un abordaje integral\, a fin de que el dimensionamiento de su planificación\, diseño\, implementación y gestión abarque los distintos aspectos que determinan un verdadero modelo urbano sostenible. 
URL:https://corlab.cordoba.gob.ar/actividad/lanzamiento-guia-de-intervenciones-en-espacios-publicos-de-caf/
CATEGORIES:Evento en línea
ATTACH;FMTTYPE=image/png:https://corlab.cordoba.gob.ar/wp-content/uploads/2023/05/guia-caf-e1683036323663.png
END:VEVENT
END:VCALENDAR