BEGIN:VCALENDAR
VERSION:2.0
PRODID:-//CORLAB - ECPv6.15.20//NONSGML v1.0//EN
CALSCALE:GREGORIAN
METHOD:PUBLISH
X-WR-CALNAME:CORLAB
X-ORIGINAL-URL:https://corlab.cordoba.gob.ar
X-WR-CALDESC:Eventos para CORLAB
REFRESH-INTERVAL;VALUE=DURATION:PT1H
X-Robots-Tag:noindex
X-PUBLISHED-TTL:PT1H
BEGIN:VTIMEZONE
TZID:America/Argentina/Cordoba
BEGIN:STANDARD
TZOFFSETFROM:-0300
TZOFFSETTO:-0300
TZNAME:-03
DTSTART:20220101T000000
END:STANDARD
END:VTIMEZONE
BEGIN:VEVENT
DTSTART;TZID=America/Argentina/Cordoba:20230615T080000
DTEND;TZID=America/Argentina/Cordoba:20230616T200000
DTSTAMP:20260422T071315
CREATED:20230613T160322Z
LAST-MODIFIED:20230613T160831Z
UID:13152-1686816000-1686945600@corlab.cordoba.gob.ar
SUMMARY:¡Únete a Women in Data Science (WiDS) Córdoba 2023!
DESCRIPTION:Descubre las últimas tendencias en Ciencia de Datos impulsadas por Mujeres en Tecnología (MeT) \n\n\n\n¡Prepárate para sumergirte en el fascinante mundo de la Ciencia de Datos en la tercera edición de Women in Data Science (WiDS) Córdoba! En colaboración con la Universidad de Stanford y más de 200 ciudades alrededor del mundo\, Mujeres en Tecnología (MeT) te invita a formar parte de este evento local único en Córdoba. \n\n\n\nDurante los días jueves 15 y viernes 16 de junio\, te esperan conferencias y talleres presenciales y virtuales que reunirán a más de 1000 personas de todo el país y la región. El objetivo principal es difundir experiencias y las últimas tendencias en Ciencia de Datos\, poniendo énfasis en la destacada contribución de las mujeres especialistas en este campo\, quienes serán las protagonistas como oradoras y panelistas. \n\n\n\nTanto las actividades presenciales como las virtuales estarán abiertas a todo el público y dirigidas a aquellas personas interesadas en aprender y desarrollarse en el área de la Ciencia de Datos. \n\n\n\n\n\n\n\n\n\n\n\n\n\n\n\n\n\nDestacados del evento: \n\n\n\n\nUn evento global creado por la Universidad de Stanford.\n\n\n\nCapítulo regional en Córdoba Capital organizado por Mujeres en Tecnología.\n\n\n\nExperiencias y tendencias en Ciencia de Datos\, destacando la participación de mujeres especialistas.\n\n\n\nConferencias y talleres para conectar y potenciar la comunidad local.\n\n\n\nDirigido a todas las personas interesadas en aprender y desarrollarse.\n\n\n\n\nSave the Date\n\n\n\nLa tercera edición de WiDS Córdoba se realizará de manera presencial el 15 de junio en la Universidad Católica de Córdoba (Sede Centro) y el 16 de junio exclusivamente en formato virtual. Las actividades presenciales tendrán lugar de 8:00 a 19:30 horas. \n\n\n\nFecha: 15 de junio (presencial) y 16 de junio (virtual)Lugar: Universidad Católica de Córdoba (Sede Centro) y plataforma virtual \n\n\n\n¡No te pierdas la oportunidad de participar en Women in Data Science (WiDS) Córdoba 2023! Adquiere tus entradas y consulta la agenda completa en: https://mujeresentecnologia.org/wids/  \n\n\n\nCódigo de descuento: MUNIWIDS. Obtén un 40% de descuento en tu entrada al utilizar este código exclusivo. \n\n\n\n¡Te esperamos para vivir una experiencia enriquecedora e inspiradora en el fascinante mundo de la Ciencia de Datos!
URL:https://corlab.cordoba.gob.ar/actividad/unete-a-women-in-data-science-wids-cordoba-2023/
CATEGORIES:Evento en línea,Presencial
ATTACH;FMTTYPE=image/png:https://corlab.cordoba.gob.ar/wp-content/uploads/2023/06/WiDS-MeT-1-Muni-e1686672188987.png
END:VEVENT
END:VCALENDAR