BEGIN:VCALENDAR
VERSION:2.0
PRODID:-//CORLAB - ECPv6.15.20//NONSGML v1.0//EN
CALSCALE:GREGORIAN
METHOD:PUBLISH
X-WR-CALNAME:CORLAB
X-ORIGINAL-URL:https://corlab.cordoba.gob.ar
X-WR-CALDESC:Eventos para CORLAB
REFRESH-INTERVAL;VALUE=DURATION:PT1H
X-Robots-Tag:noindex
X-PUBLISHED-TTL:PT1H
BEGIN:VTIMEZONE
TZID:America/Argentina/Cordoba
BEGIN:STANDARD
TZOFFSETFROM:-0300
TZOFFSETTO:-0300
TZNAME:-03
DTSTART:20220101T000000
END:STANDARD
END:VTIMEZONE
BEGIN:VEVENT
DTSTART;TZID=America/Argentina/Cordoba:20230724T100000
DTEND;TZID=America/Argentina/Cordoba:20230724T110000
DTSTAMP:20260422T082627
CREATED:20230711T141934Z
LAST-MODIFIED:20230711T141938Z
UID:13429-1690192800-1690196400@corlab.cordoba.gob.ar
SUMMARY:La experta internacional Idoia Ortiz presenta las oportunidades de negocio para emprendimientos govtech 
DESCRIPTION:La transformación digital de lo público es un hecho que cada vez genera nuevos retos y oportunidades para el ecosistema emprendedor. Este escenario se plantea como un marco de posibilidades para las startups que cuentan con soluciones innovadoras para resolver los desafíos públicos de innovación y transformación digital. Para lograr vincular estas soluciones innovadoras con los desafíos del sector público\, es necesario reconocer quién es quién en el circuito de comercialización a gobiernos y cómo adaptar la estrategia de venta a este sector. \n\n\n\nPor ello\, en el marco del Proyecto Córdoba Govtech de la Municipalidad de Córdoba y BID Lab\, la aceleradora de emprendimientos Incutex organiza el webinar sobre “Modelo de negocio B2G” destinada a aquellas startups tecnológicas que desean incursionar en el sector govtech. Esta conferencia explorará el modelo de negocios B2G (Business-to-Government) junto a Idoia Ortiz de Artiñano Goñi\,  reconocida experta internacional en govtech\, asesora de organismos multilaterales y gobiernos en ecosistemas de innovación pública. \n\n\n\nLa cátedra abierta será el lunes 24 de julio a las 10hs (Arg) y se realizará de manera virtual a través de la plataforma Zoom.  \n\n\n\nEntre los temas que se abordarán durante la cátedra abierta se encuentran: \n\n\n\n\nEl mundo de lo público: quién es quién y cómo venderle a cada uno.\n\n\n\nTransformación digital de lo público: tendencias\, oportunidades y retos.\n\n\n\n¿Cómo identificar y priorizar el tipo de cliente en el ámbito público?\n\n\n\nEstrategia B&G: claves para el éxito en el modelo de negocios B2G.\n\n\n\nContratación pública y gestión de licitaciones.\n\n\n\nNarrativa de venta con las Administraciones públicas: cómo comunicar eficazmente el valor de tu propuesta.\n\n\n\nInternacionalización en el ámbito govtech\n\n\n\nInversión en govtech: perspectivas y tendencias en el sector.\n\n\n\n\nEste evento abierto y gratuito\, es una excelente oportunidad para aquellos interesados en el govtech y en expandir su conocimiento sobre el sector público.  \n\n\n\nPara participar inscribite en este formulario: https://bit.ly/Charla-Córdoba-Govtech  \n\n\n\n\n\n\n\nMás sobre Córdoba Govtech\n\n\n\nEl proyecto Córdoba Govtech es el resultado de un convenio de cooperación entre la secretaría de Planeamiento\, Modernización y RRII de la Municipalidad de Córdoba y BID Lab. Tiene como objetivo impulsar emprendimientos que desarrollen soluciones innovadoras para la modernización pública municipal y fortalecer el entorno institucional que favorezca el desarrollo de estos emprendimientos.  \n\n\n\nAdemás\, busca ser un catalizador del ecosistema Govtech\, combinando la preparación de la demanda pública con el fortalecimiento de la oferta de soluciones innovadoras desarrolladas por startups Govtech. \n\n\n\nEste compromiso se lleva adelante a través de una estrategia integral Govtech mediante dos líneas principales de acción: el Fondo Córdoba Ciudad Inteligente que invierte en startups govtech\, y el Programa Córdoba Govtech. \n\n\n\nEsta política integral\, busca ser un catalizador significativo del ecosistema Govtech al combinar la preparación de la demanda pública mediante nuevos marcos regulatorios\, formaciones\, pilotos y la creación de espacios seguros de experimentación de innovaciones y tecnologías\, con el fortalecimiento de la oferta de soluciones innovadoras desarrolladas por startups Govtech a través de programas de bootcamps\, incubación y aceleración.
URL:https://corlab.cordoba.gob.ar/actividad/la-experta-internacional-idoia-ortiz-presenta-las-oportunidades-de-negocio-para-emprendimientos-govtech/
CATEGORIES:Evento en línea
ATTACH;FMTTYPE=image/png:https://corlab.cordoba.gob.ar/wp-content/uploads/2023/07/FLYER-CHARLA_Mesa-de-trabajo-1-e1689084802774.png
END:VEVENT
END:VCALENDAR