BEGIN:VCALENDAR
VERSION:2.0
PRODID:-//CORLAB - ECPv6.15.20//NONSGML v1.0//EN
CALSCALE:GREGORIAN
METHOD:PUBLISH
X-ORIGINAL-URL:https://corlab.cordoba.gob.ar
X-WR-CALDESC:Eventos para CORLAB
REFRESH-INTERVAL;VALUE=DURATION:PT1H
X-Robots-Tag:noindex
X-PUBLISHED-TTL:PT1H
BEGIN:VTIMEZONE
TZID:America/Argentina/Cordoba
BEGIN:STANDARD
TZOFFSETFROM:-0300
TZOFFSETTO:-0300
TZNAME:-03
DTSTART:20220101T000000
END:STANDARD
END:VTIMEZONE
BEGIN:VEVENT
DTSTART;TZID=America/Argentina/Cordoba:20230725T130000
DTEND;TZID=America/Argentina/Cordoba:20230725T143000
DTSTAMP:20260422T082831
CREATED:20230721T200640Z
LAST-MODIFIED:20230721T213226Z
UID:13498-1690290000-1690295400@corlab.cordoba.gob.ar
SUMMARY:Martes de Ciberseguridad en Ciberlac - Retos de Ciberseguridad en América Latina y el Caribe
DESCRIPTION:¿Sabías que durante la primera mitad de 2022 se registraron 137 mil millones de intentos de ataques cibernéticos en América Latina y el Caribe? ¡Es un incremento del 50% respecto a 2021! México\, Brasil y Colombia fueron los países más afectados. \n\n\n\nEl Córdoba Cybersecurity Hub invita a participar de la segunda edición de Martes de Ciberseguridad una iniciativa de Ciberlac y BID. La segunda edición de de este ciclo tendrá un total de 6 webinars\, que se realizarán del 25 de julio al 28 de noviembre.  \n\n\n\nEl próximo martes 25 de julio a las 13:00 hs tendrá lugar el primer el webinar del ciclo: «Retos de Ciberseguridad en América Latina y el Caribe». En esta sesión se abordarán los principales desafíos y oportunidades en ciberseguridad para nuestra región\, además de las mejores prácticas para evitar ser víctima de un ataque cibernético. \n\n\n\nEl webinar estará a cargo de destacados expertos: \n\n\n\n\nSalma Jalife\, presidenta del Centro México Digital (CMD).\n\n\n\nGustavo Betarte\, presidente de la Red de Excelencia en Ciberseguridad para Latinoamérica y el Caribe (Ciberlac).\n\n\n\nSantiago Paz\, especialista en ciberseguridad del BID.\n\n\n\nLiliana Estrada Galindo\, consultora del BID y coordinadora de la Red Ciberlac.\n\n\n\n\nRegistrate haciendo click acá
URL:https://corlab.cordoba.gob.ar/actividad/martes-de-ciberseguridad-en-ciberlac-retos-de-ciberseguridad-en-america-latina-y-el-caribe/
CATEGORIES:Evento en línea
ATTACH;FMTTYPE=image/png:https://corlab.cordoba.gob.ar/wp-content/uploads/2023/07/martes-de-ciberseguridad-hub-1-e1689969966527.png
END:VEVENT
END:VCALENDAR