BEGIN:VCALENDAR
VERSION:2.0
PRODID:-//CORLAB - ECPv6.15.20//NONSGML v1.0//EN
CALSCALE:GREGORIAN
METHOD:PUBLISH
X-ORIGINAL-URL:https://corlab.cordoba.gob.ar
X-WR-CALDESC:Eventos para CORLAB
REFRESH-INTERVAL;VALUE=DURATION:PT1H
X-Robots-Tag:noindex
X-PUBLISHED-TTL:PT1H
BEGIN:VTIMEZONE
TZID:America/Argentina/Cordoba
BEGIN:STANDARD
TZOFFSETFROM:-0300
TZOFFSETTO:-0300
TZNAME:-03
DTSTART:20220101T000000
END:STANDARD
END:VTIMEZONE
BEGIN:VEVENT
DTSTART;TZID=America/Argentina/Cordoba:20230823T143000
DTEND;TZID=America/Argentina/Cordoba:20230823T153000
DTSTAMP:20260422T095408
CREATED:20230818T151519Z
LAST-MODIFIED:20230822T123023Z
UID:13674-1692801000-1692804600@corlab.cordoba.gob.ar
SUMMARY:Webinar: Córdoba Capital del Conocimiento
DESCRIPTION:Sumáte el próximo miércoles 23 de agosto al Webinar Córdoba Capital del Conocimiento. Accedé a más información sobre el programa que propone una serie de beneficios tributarios para las personas jurídicas radicadas en Córdoba inscriptas en el Registro de Beneficiarios de la Economía del Conocimiento Municipal (RECOM). \n\n\n\nInscripciones acá \n\n\n\n¿Qué es el Régimen de Promoción a las Nuevas Inversiones en Economía del Conocimiento?\n\n\n\nEste régimen\, sancionado por el Concejo Deliberante en la ordenanza 13.311\, propone una serie de beneficios tributarios para las personas jurídicas radicadas en la ciudad que se inscriban en el Registro de Beneficiarios de la Economía del Conocimiento Municipal (RECOM). \n\n\n\nSe trata de una iniciativa de la Municipalidad de Córdoba que busca incentivar las actividades económicas vinculadas a la tecnología\, la información y el conocimiento para la producción de bienes y servicios. Su objetivo impulsar el desarrollo económico agregando valor a la matriz productiva local y crear empleo de calidad en la ciudad. \n\n\n\n“En Córdoba tienen la posibilidad de crecer\, en un ambiente espectacular\, porque Córdoba conjuga la potencia universitaria con una ciudad vivible y un ecosistema emprendedor. Córdoba no tiene competencia”\, aseguró Llaryora. \n\n\n\nY añadió: “En el entorno cada vez se pide más\, no solo condiciones laborales\, sino condiciones de vida. Y en Córdoba están todas las posibilidades: vinculadas a la calidad de vida y vinculadas a la calidad científico-tecnológica para que las empresas no paren de crecer”. \n\n\n\nEntre otros beneficios\, este régimen de la Municipalidad de Córdoba incluye:\n\n\n\n\nEstabilidad fiscal en contribuciones municipales por hasta 10 años\, exención de pago por hasta 10 años y hasta de un 100 % respecto a contribuciones que se establezcan por vía reglamentaria.\n\n\n\nExención de pago por hasta 10 años y de hasta un 100% respecto de la contribución que incide sobre la Actividad Comercial\, Industrial y de Servicios.\n\n\n\nExención de pago por hasta 10 años y de hasta un 100% respecto de la contribución que incide sobre Vehículos Automotores\, Acoplados y Similares.\n\n\n\nExención de pago por hasta 10 años y de hasta un 100% respecto de la contribución que incide sobre los Inmuebles destinado o afectados a la explotación promovida.\n\n\n\nAdemás\, la ordenanza establece la creación de un Consejo de Expertos\, que estará integrado por representantes del sector privado\, instituciones académicas y otros miembros ligados a la temática.
URL:https://corlab.cordoba.gob.ar/actividad/webinar-cordoba-capital-del-conocimiento/
CATEGORIES:Evento en línea
ATTACH;FMTTYPE=image/png:https://corlab.cordoba.gob.ar/wp-content/uploads/2023/08/FLYER-CBA-CAPITAL-DEL-CONOCIMIENTO-sin-inscripciones-e1692371579759.png
END:VEVENT
END:VCALENDAR