BEGIN:VCALENDAR
VERSION:2.0
PRODID:-//CORLAB - ECPv6.15.20//NONSGML v1.0//EN
CALSCALE:GREGORIAN
METHOD:PUBLISH
X-ORIGINAL-URL:https://corlab.cordoba.gob.ar
X-WR-CALDESC:Eventos para CORLAB
REFRESH-INTERVAL;VALUE=DURATION:PT1H
X-Robots-Tag:noindex
X-PUBLISHED-TTL:PT1H
BEGIN:VTIMEZONE
TZID:America/Argentina/Cordoba
BEGIN:STANDARD
TZOFFSETFROM:-0300
TZOFFSETTO:-0300
TZNAME:-03
DTSTART:20220101T000000
END:STANDARD
END:VTIMEZONE
BEGIN:VEVENT
DTSTART;TZID=America/Argentina/Cordoba:20231023T100000
DTEND;TZID=America/Argentina/Cordoba:20231027T170000
DTSTAMP:20260422T123713
CREATED:20231017T171621Z
LAST-MODIFIED:20231017T171626Z
UID:14106-1698055200-1698426000@corlab.cordoba.gob.ar
SUMMARY:SEMANA DE CONOCIMIENTO DEL GRUPO BID 2023
DESCRIPTION:En un contexto global donde los desafíos trascienden fronteras\, América Latina y el Caribe es capaz de dar respuesta en áreas que son críticas para el futuro del planeta. \n\n\n\nPor eso\, los resultados de nuestros esfuerzos de desarrollo importan. Importa el uso eficiente de recursos\, la evidencia y los datos para la toma de decisiones\, las lecciones aprendidas y la medición y evaluación constante. \n\n\n\nAprende de expertos de clase mundial\, construye redes y forma parte de la comunidad global en desarrollo y efectividad. \n\n\n\n¡Bienvenidos/as a la Semana de Conocimiento del Grupo BID 2023!\n\n\n\nMÁS DE 45 ORADORES\n\n\n\nEscucha a destacados académicos\, expertos del Grupo BID\, y especialistas regionales e internacionales que están marcando el futuro de la región y el mundo. \n\n\n\nMÁS DE 15 SESIONES\n\n\n\nSobre infraestructura sostenible\, cambio climático\, biodiversidad\, educación\, y efectividad en el desarrollo. \n\n\n\nONLINE Y PRESENCIAL\n\n\n\nParticipa de forma presencial desde Washington D.C. o en las sesiones desde Brasilia y San Pablo\, o disfruta de la transmisión en línea en vivo de todo el evento desde tu casa. Habrá interpretación simultánea al español\, inglés y portugués. \n\n\n\nUN ESPACIO DE INTERACCIÓN\n\n\n\nÚnete a la conversación\, haz preguntas durante las sesiones diarias y forma parte de esta comunidad global de conocimiento. \n\n\n\nRegistrate gratis y consulta el programa completo acá: https://knowledgeweek.iadb.org/es
URL:https://corlab.cordoba.gob.ar/actividad/semana-de-conocimiento-del-grupo-bid-2023/
CATEGORIES:Evento en línea
ATTACH;FMTTYPE=image/png:https://corlab.cordoba.gob.ar/wp-content/uploads/2023/10/image-2.png
END:VEVENT
BEGIN:VEVENT
DTSTART;TZID=America/Argentina/Cordoba:20231024T113000
DTEND;TZID=America/Argentina/Cordoba:20231024T133000
DTSTAMP:20260422T123713
CREATED:20231002T135028Z
LAST-MODIFIED:20231002T135629Z
UID:13955-1698147000-1698154200@corlab.cordoba.gob.ar
SUMMARY:Start Me Up : #FutureTech
DESCRIPTION:StartMeUp lanza #FutureTech\, una nueva convocatoria para conectar de manera innovadora empresas con startups de distintas verticales tecnológicas. Esta tercera edición se enfoca en soluciones clave como Inteligencia Artificial\, IoT y Blokchain\, Realidad Aumentada (AR) y Realidad Virtual (VR)\, Computación cuántica\, Automatización Robótica\, Bioinformática y Biotecnología y Ciberseguridad avanzada. \n\n\n\nEsta convocatoria es una excelente oportunidad para startups que deseen expandir su mercado y ofrecer sus servicios en múltiples países\, interactuando con empresas que forman parte del Club de Innovación. La dinámica del evento se basa en el concepto de «speed dating»\, donde las startups tienen la oportunidad de presentar sus soluciones de forma ágil ante un público conformado por las empresas del Club de Innovación. \n\n\n\n«Start Me Up» es un evento en colaboración con Relaci\, la primera Red de Clubes de Innovación en América Latina. Este evento atraerá empresas de Chile\, Colombia\, Argentina\, Perú\, Paraguay\, México y República Dominicana\, brindando a las startups la posibilidad de establecer conexiones valiosas y explorar nuevas oportunidades de colaboración. \n\n\n\nEl evento será virtual el 24 de octubre de 11.30 a 13.30 . Inscribite acá
URL:https://corlab.cordoba.gob.ar/actividad/start-me-up-futuretech/
CATEGORIES:Evento en línea
ATTACH;FMTTYPE=image/png:https://corlab.cordoba.gob.ar/wp-content/uploads/2023/10/Feed-1-e1696254607769.png
END:VEVENT
END:VCALENDAR