BEGIN:VCALENDAR
VERSION:2.0
PRODID:-//CORLAB - ECPv6.15.20//NONSGML v1.0//EN
CALSCALE:GREGORIAN
METHOD:PUBLISH
X-ORIGINAL-URL:https://corlab.cordoba.gob.ar
X-WR-CALDESC:Eventos para CORLAB
REFRESH-INTERVAL;VALUE=DURATION:PT1H
X-Robots-Tag:noindex
X-PUBLISHED-TTL:PT1H
BEGIN:VTIMEZONE
TZID:America/Argentina/Cordoba
BEGIN:STANDARD
TZOFFSETFROM:-0300
TZOFFSETTO:-0300
TZNAME:-03
DTSTART:20230101T000000
END:STANDARD
END:VTIMEZONE
BEGIN:VEVENT
DTSTART;TZID=America/Argentina/Cordoba:20240313T110000
DTEND;TZID=America/Argentina/Cordoba:20240313T110000
DTSTAMP:20260422T191826
CREATED:20240311T140235Z
LAST-MODIFIED:20240311T163557Z
UID:15304-1710327600-1710327600@corlab.cordoba.gob.ar
SUMMARY:Panorama de las Administraciones Públicas: América Latina y el Caribe 2024
DESCRIPTION:Participa del lanzamiento de la nueva edición del Panorama de las Administraciones Pública: América Latina y el Caribe 2024\, que ofrece estadísticas sobre la situación de las administraciones públicas en la región. \n\n\n\nLa edición 2024 incluye un capítulo especial sobre el fortalecimiento de la participación\, la gestión pública y la integridad para generar confianza y apoyar la transición verde en América Latina y el Caribe. El capítulo describe el contexto en que operan los gobiernos de la región y cómo los países pueden mejor aprovechar una gobernanza pública sólida para lograr una recuperación económica y crecimiento sostenibles e inclusivos. \n\n\n\nPublicado cada tres años\, el Panorama de las Administraciones Públicas: América Latina y el Caribe es un informe conjunto de la OCDE y el BID que proporciona indicadores fiables e internacionalmente comparables sobre las actividades gubernamentales y sus resultados en la región\, y compara con los países de la OCDE. \n\n\n\nEl evento es virtual y abierto al público\, con interpretación al inglés\, español y portugués. \n\n\n\n\n\n\n\n\n\nAgenda \n\n\n\n•           Discurso de apertura de Ulrik Knudsen\, Secretario General Adjunto de la OCDE y Ana María Ibáñez\, Vicepresidenta de Sectores y Conocimiento del BID \n\n\n\n•           Presentación de los resultados principales del Informe por Elsa Pilichowski\, Directora de Gobernanza Pública de la OCDE \n\n\n\n•             Mesa redonda moderada por Emilio Pineda\, Gerente Interino del Sector de Instituciones para el Desarrollo del BID: \n\n\n\n•           Francisco Gaetani\, Secretario Extraordinario de Transformación del Estado\, Brasil \n\n\n\n•           Ana Rosa Valdivieso Santa Maria\,  Alta Representante del Perú para el proceso de adhesión a la OCDE\, Perú \n\n\n\n•           Dario Castillo Lugo\, Ministro de Administración Pública\, República Dominicana \n\n\n\n \n\n\n\n \n\n\n\n\nMás información\n\n\n\nInscripciones
URL:https://corlab.cordoba.gob.ar/actividad/panorama-de-las-administraciones-publicas-america-latina-y-el-caribe-2024/
CATEGORIES:Evento en línea
ATTACH;FMTTYPE=image/png:https://corlab.cordoba.gob.ar/wp-content/uploads/2024/03/Panorama-de-las-Administraciones-Publicas-1.png
END:VEVENT
END:VCALENDAR