BEGIN:VCALENDAR
VERSION:2.0
PRODID:-//CORLAB - ECPv6.15.20//NONSGML v1.0//EN
CALSCALE:GREGORIAN
METHOD:PUBLISH
X-ORIGINAL-URL:https://corlab.cordoba.gob.ar
X-WR-CALDESC:Eventos para CORLAB
REFRESH-INTERVAL;VALUE=DURATION:PT1H
X-Robots-Tag:noindex
X-PUBLISHED-TTL:PT1H
BEGIN:VTIMEZONE
TZID:America/Argentina/Cordoba
BEGIN:STANDARD
TZOFFSETFROM:-0300
TZOFFSETTO:-0300
TZNAME:-03
DTSTART:20230101T000000
END:STANDARD
END:VTIMEZONE
BEGIN:VEVENT
DTSTART;TZID=America/Argentina/Cordoba:20240726T100000
DTEND;TZID=America/Argentina/Cordoba:20240726T113000
DTSTAMP:20260423T011033
CREATED:20240722T131125Z
LAST-MODIFIED:20240725T130724Z
UID:17611-1721988000-1721993400@corlab.cordoba.gob.ar
SUMMARY:Seminario Smart City: “¿Cómo impulsar la Innovación Pública desde el Govtech?”
DESCRIPTION:Si te interesa conocer cómo impulsar la Innovación Abierta en el Sector Público a través de la sinergia entre gobierno y el ecosistema innovador\, CorLab de la Secretaría de Ciudad Inteligente y Transformación Digital\, junto a la Facultad de Ciencias Económicas de la UNC y BID Lab\, te invitan a sumarte al segundo seminario del Ciclo Smart City. En este encuentro exploraremos “¿Cómo impulsar la Innovación Pública desde el Govtech?” de la mano de la Especialista Senior de BID Lab\, NATALIA LAGUYAS\, y del Subsecretario de Economía del Conocimiento y Ecosistema Govtech de la Municipalidad de Córdoba\, LUCIANO CRISAFULLI. \n\n\n\nEste encuentro se dará el próximo 26 de Julio\, a las 10:00 am (Arg)\, en fomato virtual. Está dirigido a Funcionarios y agentes públicos de la Municipalidad de Córdoba\, startups govtech y público general. \n\n\n\n???? Certificado por Universidad Nacional de Córdoba y Municipalidad de Córdoba. \n\n\n\n\n\n\n\nSobre los disertantes:\n\n\n\nNatalia Laguyas es Especialista Senior de BID LAB\, liderando la agenda Govtech y co-dirigiendo Fuente de Innovación\, una alianza que fomenta la innovación en el sector del agua y el saneamiento. Con más de 15 años de experiencia\, ha colaborado con gobiernos\, ONGs y el sector privado en iniciativas a lo largo de América Latina y el Caribe. Su enfoque previo se centró en el desarrollo de clusters\, cadenas de valor y pequeñas empresas a través de asociaciones público-privadas. También forma parte del equipo de BID Lab que se encuentra implementando programas Govtech en colaboración con la Municipalidad de Córdoba\, iniciativas que fortalecen el Ecosistema Govtech de la ciudad mediante la formación de servidores públicos\, el apoyo a startups Govtech\, la actualización de la normativa de compras públicas innovadoras y emprendedoras y en materia de inversión inteligente en startups Govtech a través del Fondo Córdoba Ciudad Inteligente. \n\n\n\nLuciano Crisafulli es Subsecretario de Economía del Conocimiento y Ecosistema Govtech de la Municipalidad de Córdoba. Es economista (UNC)\, magíster en Gestión Política con orientación en Políticas Públicas (UCC) y magíster en Desarrollo Económico para América Latina (Universidad Internacional de Andalucía\, España). Se desempeña como profesor universitario de posgrado en Innovación y Emprendimiento. Lidera el Laboratorio de Innovación Pública y Govtech de Córdoba\, Corlab\, donde gestiona el programa Córdoba Govtech y el Fondo Córdoba Ciudad Inteligente\, el primer fondo de inversión govtech de Latinoamérica\, co-financiado por el BID Lab. \n\n\n\n\nInscripciones aqui
URL:https://corlab.cordoba.gob.ar/actividad/seminario-smart-city-como-impulsar-la-innovacion-publica-desde-el-govtech/
CATEGORIES:Evento en línea
ATTACH;FMTTYPE=image/jpeg:https://corlab.cordoba.gob.ar/wp-content/uploads/2024/07/Corlab-seminarios-FEED-3.jpg
END:VEVENT
END:VCALENDAR