BEGIN:VCALENDAR
VERSION:2.0
PRODID:-//CORLAB - ECPv6.15.20//NONSGML v1.0//EN
CALSCALE:GREGORIAN
METHOD:PUBLISH
X-ORIGINAL-URL:https://corlab.cordoba.gob.ar
X-WR-CALDESC:Eventos para CORLAB
REFRESH-INTERVAL;VALUE=DURATION:PT1H
X-Robots-Tag:noindex
X-PUBLISHED-TTL:PT1H
BEGIN:VTIMEZONE
TZID:America/Argentina/Cordoba
BEGIN:STANDARD
TZOFFSETFROM:-0300
TZOFFSETTO:-0300
TZNAME:-03
DTSTART:20230101T000000
END:STANDARD
END:VTIMEZONE
BEGIN:VEVENT
DTSTART;TZID=America/Argentina/Cordoba:20240805T200000
DTEND;TZID=America/Argentina/Cordoba:20240805T213000
DTSTAMP:20260423T023125
CREATED:20240805T162007Z
LAST-MODIFIED:20240805T163820Z
UID:17804-1722888000-1722893400@corlab.cordoba.gob.ar
SUMMARY:Humanos 4.0: Transformación Digital\, Big Data e Inteligencia Artificial en la Gestión Humana.
DESCRIPTION:Desde CorLab\, el Laboratorio de Innovación Pública y Govtech de la Municipalidad de Córdoba  tenemos el placer de invitaros al evento «Humanos 4.0: Transformación Digital\, Big Data e Inteligencia Artificial en la Gestión Humana» organizado por la Universidad Blas Pascal\, donde se explorarán cómo las últimas tecnologías están revolucionando el ámbito de los recursos humanos. \n\n\n\nDetalles del Evento:\n\n\n\n\nFecha y Hora: Miércoles\, 7 de agosto\, de 20:30 a 21:30 hs\n\n\n\nModalidad: Virtual\n\n\n\nModerador: Luciano Crisafulli\, Profesor de Innovación y Emprendimiento\n\n\n\n\n\n\n\n\n\n\nObjetivos del Evento:\n\n\n\n\nExplicar cómo la transformación digital está impactando la gestión de recursos humanos.\n\n\n\nAnalizar cómo el Big Data puede ser utilizado para mejorar la toma de decisiones en la gestión de recursos humanos.\n\n\n\nMostrar ejemplos de cómo la inteligencia artificial puede ser aplicada en la gestión de talento.\n\n\n\nOfrecer estrategias y recomendaciones para que las organizaciones puedan comenzar a implementar estas tecnologías en sus departamentos de recursos humanos.\n\n\n\nProporcionar un espacio para preguntas y respuestas\, permitiendo a los participantes interactuar y obtener clarificaciones sobre los temas discutidos.\n\n\n\n\nSobre el Disertante:\n\n\n\nLucas Mailland\, argentino de 35 años\, cuenta con más de 15 años de experiencia en el mundo digital. Es un emprendedor apasionado por la innovación\, la tecnología y las ciencias del comportamiento. Junto a su socio Gonzalo Soaje Pinto\, en 2020 crearon Fichap\, un software de soluciones de HR que optimiza la gestión de personas en empresas de mano de obra intensiva. Fichap es una plataforma que\, a través de la inteligencia artificial y el Big Data\, digitaliza y optimiza los recursos humanos en empresas con miles de trabajadores sin escritorio. Su visión es transformar la manera en que las empresas gestionan a sus equipos\, haciéndolos más eficientes y adaptados a las necesidades del mercado moderno. \n\n\n\n \n\n\n\n¡No te pierdas esta oportunidad única de aprender y discutir sobre el futuro de la gestión de recursos humanos! Inscríbete y únete a nosotros para una experiencia enriquecedora. \n\n\n\n\nInscripciones \n\n\n\nMás Información sobre la Universidad
URL:https://corlab.cordoba.gob.ar/actividad/humanos-4-0-transformacion-digital-big-data-e-inteligencia-artificial-en-la-gestion-humana/
CATEGORIES:Evento en línea
ATTACH;FMTTYPE=image/png:https://corlab.cordoba.gob.ar/wp-content/uploads/2024/08/Webinar-Humanos-4.0.png
END:VEVENT
END:VCALENDAR