BEGIN:VCALENDAR
VERSION:2.0
PRODID:-//CORLAB - ECPv6.15.20//NONSGML v1.0//EN
CALSCALE:GREGORIAN
METHOD:PUBLISH
X-ORIGINAL-URL:https://corlab.cordoba.gob.ar
X-WR-CALDESC:Eventos para CORLAB
REFRESH-INTERVAL;VALUE=DURATION:PT1H
X-Robots-Tag:noindex
X-PUBLISHED-TTL:PT1H
BEGIN:VTIMEZONE
TZID:America/Argentina/Cordoba
BEGIN:STANDARD
TZOFFSETFROM:-0300
TZOFFSETTO:-0300
TZNAME:-03
DTSTART:20230101T000000
END:STANDARD
END:VTIMEZONE
BEGIN:VEVENT
DTSTART;TZID=America/Argentina/Cordoba:20240826T080000
DTEND;TZID=America/Argentina/Cordoba:20240826T100000
DTSTAMP:20260423T034816
CREATED:20240826T153930Z
LAST-MODIFIED:20240826T153933Z
UID:18065-1724659200-1724666400@corlab.cordoba.gob.ar
SUMMARY:TechSprint para una mayor transparencia gubernamental: Herramientas digitales para prevenir y exponer la corrupción
DESCRIPTION:El Laboratorio de Innovación Pública y Govtech de la Secretaría Ciudad Inteligente y Transformación Digital de la Municipalidad de Córdoba\, invita a “TechSprint para una mayor transparencia gubernamental: Herramientas digitales para prevenir y exponer la corrupción”.  \n\n\n\n\n\n\n\n9 equipos seleccionados competirán y presentarán sus prototipos innovadores para fortalecer la plataforma MapaInversiones y con ello\, mejorar el acceso a los datos de gasto\, inversión y contratación pública para facilitar la rendición de cuentas de los gobiernos y el acceso a la información para la ciudadanía. \n\n\n\nTe invitamos el próximo 28 de agosto a partir de las 8:00 a. m.(arg) al Demo Day del TechSprint\, donde además de ver a los equipos competir y presentar sus ideas para fortalecer la transparencia\, podrás participar de paneles de alto nivel con personas expertas en innovación\, transparencia y gobierno abierto. \n\n\n\n\nRegistrate ahora\n\n\n\n\n¡No te lo pierdas!
URL:https://corlab.cordoba.gob.ar/actividad/techsprint-para-una-mayor-transparencia-gubernamental-herramientas-digitales-para-prevenir-y-exponer-la-corrupcion/
CATEGORIES:Evento en línea
ATTACH;FMTTYPE=image/png:https://corlab.cordoba.gob.ar/wp-content/uploads/2024/08/unnamed.png
END:VEVENT
END:VCALENDAR