BEGIN:VCALENDAR
VERSION:2.0
PRODID:-//CORLAB - ECPv6.15.20//NONSGML v1.0//EN
CALSCALE:GREGORIAN
METHOD:PUBLISH
X-ORIGINAL-URL:https://corlab.cordoba.gob.ar
X-WR-CALDESC:Eventos para CORLAB
REFRESH-INTERVAL;VALUE=DURATION:PT1H
X-Robots-Tag:noindex
X-PUBLISHED-TTL:PT1H
BEGIN:VTIMEZONE
TZID:America/Argentina/Cordoba
BEGIN:STANDARD
TZOFFSETFROM:-0300
TZOFFSETTO:-0300
TZNAME:-03
DTSTART:20230101T000000
END:STANDARD
END:VTIMEZONE
BEGIN:VEVENT
DTSTART;TZID=America/Argentina/Cordoba:20240911T110000
DTEND;TZID=America/Argentina/Cordoba:20240911T123000
DTSTAMP:20260423T052300
CREATED:20240910T133940Z
LAST-MODIFIED:20240910T133944Z
UID:18166-1726052400-1726057800@corlab.cordoba.gob.ar
SUMMARY:Mejorando la calidad del aire urbano
DESCRIPTION:¿Cómo avanzar en la reducción de la contaminación del aire para lograr ciudades más saludables y sostenibles?  En 2021\, la mala calidad del aire causó 8.1 millones de muertes y el costo fue del 3.4% del PIB global. En América Latina y el Caribe (LAC)\, la motorización creció 4.7% anual entre 2005 y 2015. Las ciudades enfrentan niveles de materia particulada 3 a 5 veces mayores que los estándares de la OMS.La Red de Ciudades del BID te invita a participar del webinar «Mejorando la Calidad del Aire Urbano«\, segundo y último de la serie “Estrategias para Enfrentar la Polución en Ciudades de América Latina y el Caribe”\, donde exploraremos oportunidades y desafíos para mejorar la calidad de aire urbano y presentaremos el Plan Aire 2030 de  Bogotá y proyectos pilotos del Laboratorio de Ciudades del BID para mejorar la calidad de aire en Bogotá\, Quito y Lima.\n\n\n\nPARTICIPANTES· Maria Camila Uribe\,  Coordinadora de la Red de Ciudades del BID y Líder Técnico Principal de la División de Vivienda y Desarrollo Urbano\, BID.· Allen Blackman\,  Asesor Principal del Sector de Cambio Climático y Desarrollo Sostenible\, BID· Juan José Castillo\,  Asesor Regional en Calidad del Aire y Salud de la Organización Panamericana de la Salud (OPS) · Sergio Sánchez\,  Director de Políticas Senior\, Aire Limpio Global\, Fondo para la Defensa del Medio Ambiente· Daniela García\,  Directora de Calidad del Aire\, Secretaría de Medio Ambiente\, Bogotá\, Colombia· Washington Fajardo\,  Coordinador del Laboratorio de Ciudades del BID y Especialista Senior de la División de Vivienda y Desarrollo Urbano\, BID
URL:https://corlab.cordoba.gob.ar/actividad/mejorando-la-calidad-del-aire-urbano/
CATEGORIES:Evento en línea
ATTACH;FMTTYPE=image/png:https://corlab.cordoba.gob.ar/wp-content/uploads/2024/09/unnamed-31.png
END:VEVENT
END:VCALENDAR