BEGIN:VCALENDAR
VERSION:2.0
PRODID:-//CORLAB - ECPv6.15.20//NONSGML v1.0//EN
CALSCALE:GREGORIAN
METHOD:PUBLISH
X-WR-CALNAME:CORLAB
X-ORIGINAL-URL:https://corlab.cordoba.gob.ar
X-WR-CALDESC:Eventos para CORLAB
REFRESH-INTERVAL;VALUE=DURATION:PT1H
X-Robots-Tag:noindex
X-PUBLISHED-TTL:PT1H
BEGIN:VTIMEZONE
TZID:America/Argentina/Cordoba
BEGIN:STANDARD
TZOFFSETFROM:-0300
TZOFFSETTO:-0300
TZNAME:-03
DTSTART:20230101T000000
END:STANDARD
END:VTIMEZONE
BEGIN:VEVENT
DTSTART;TZID=America/Argentina/Cordoba:20240912T140000
DTEND;TZID=America/Argentina/Cordoba:20240912T153000
DTSTAMP:20260423T034754
CREATED:20240829T155026Z
LAST-MODIFIED:20240902T212947Z
UID:18106-1726149600-1726155000@corlab.cordoba.gob.ar
SUMMARY:Ciclo de Innovación en la gestión local y ciudades: ¿Cómo el Govtech puede potenciar la innovación pública?
DESCRIPTION:CorLab invita al Ciclo de Innovación en la gestión local y ciudades en la Agenda de Aprendizaje\, organizado por el Gobierno local de Chile. Durante agosto y septiembre\, a través de espacios de aprendizaje colectivo y discusión\, se visibilizarán iniciativas de innovación digital e implementación de soluciones tecnológicas en la gestión local y ciudades. \n\n\n\nEn este ciclo de actividades participará GovTech Latam\, Municipalidad de Independencia y de Juan Fernández de Chile y CorLab\, el Laboratorio de Innovación Pública y Govtech de la Municipalidad de Córdoba.  \n\n\n\n\n\n\n\n¡Inscríbete en el ciclo para participar de las actividades! \n\n\n\nCharla Govtech LatamJueves 22 de Agosto de 14:00 a 15:30 hrs. (ARG)Innovación abierta y Govtech: ¿Cuáles son los hallazgos clave de su implementación en Latinoamérica?Charla Municipalidad de IndependenciaJueves 29 de Agosto de 14:00 a 15:30 hrs (ARG)Charla – ¿Cómo usar innovación digital para conocer el territorio? La experiencia de la Municipalidad de Independencia.Sesión pregúntame cómo con la Ilustre Municipalidad de Juan Fernández \n\n\n\nJueves 05 de Septiembre de 14:00 a 15:30 hrs. (ARG)¿Cómo puede contribuir la innovación al desarrollo sostenible de comunidades locales?Charla del Laboratorio de Innovación Govtech de Córdoba – CorLab \n\n\n\nJueves 12 de Septiembre de 14:00 a 15:30 hrs. (ARG)Charla Corlab ¿Cómo el Govtech puede potenciar la innovación pública?  \n\n\n\nFacilitador: Luciano Crisafulli\, Mgter Luciano Crisafulli\, Director de CorLab \n\n\n\n\n\n\n\n\nMás información e inscripciones
URL:https://corlab.cordoba.gob.ar/actividad/ciclo-de-innovacion-en-la-gestion-local-y-ciudades-como-el-govtech-puede-potenciar-la-innovacion-publica/
CATEGORIES:Evento en línea
ATTACH;FMTTYPE=image/jpeg:https://corlab.cordoba.gob.ar/wp-content/uploads/2024/08/Diseno-sin-titulo.jpg
END:VEVENT
END:VCALENDAR