BEGIN:VCALENDAR
VERSION:2.0
PRODID:-//CORLAB - ECPv6.15.20//NONSGML v1.0//EN
CALSCALE:GREGORIAN
METHOD:PUBLISH
X-ORIGINAL-URL:https://corlab.cordoba.gob.ar
X-WR-CALDESC:Eventos para CORLAB
REFRESH-INTERVAL;VALUE=DURATION:PT1H
X-Robots-Tag:noindex
X-PUBLISHED-TTL:PT1H
BEGIN:VTIMEZONE
TZID:America/Argentina/Cordoba
BEGIN:STANDARD
TZOFFSETFROM:-0300
TZOFFSETTO:-0300
TZNAME:-03
DTSTART:20230101T000000
END:STANDARD
END:VTIMEZONE
BEGIN:VEVENT
DTSTART;TZID=America/Argentina/Cordoba:20240916T100000
DTEND;TZID=America/Argentina/Cordoba:20240916T110000
DTSTAMP:20260423T034822
CREATED:20240916T132517Z
LAST-MODIFIED:20240916T152628Z
UID:18195-1726480800-1726484400@corlab.cordoba.gob.ar
SUMMARY:Acelerando la agenda digital de los gobiernos locales
DESCRIPTION:CorLab\, el  Laboratorio de Innovación Pública y Govtech de la Secretaria de Ciudad Inteligente y Transformación Digital de la Municipalidad de Córdoba\, te invita a sumarte a webinar «Acelerando la agenda digital de los gobiernos locales» organizado por Cívica Digital y Datamorfosis.  Este encuentro virtual que reunirá a expertos líderes en innovación gubernamental y tecnología para explorar estrategias prácticas y casos de éxito en la digitalización de gobiernos.  \n\n\n\nDescubre cómo gobiernos pioneros en México están liderando la transformación digital\, y conoce de primera mano las herramientas que están acelerando este proceso. Aprenderás sobre soluciones innovadoras que mejoran la comunicación con la ciudadanía y eficientizan el trabajo de funcionarios públicos. \n\n\n\n\nMás información \n\n\n\nInscripciones
URL:https://corlab.cordoba.gob.ar/actividad/acelerando-la-agenda-digital-de-los-gobiernos-locales/
CATEGORIES:Evento en línea
ATTACH;FMTTYPE=image/jpeg:https://corlab.cordoba.gob.ar/wp-content/uploads/2024/09/WhatsApp-Image-2024-09-12-at-16.25.47-1.jpeg
END:VEVENT
END:VCALENDAR