BEGIN:VCALENDAR
VERSION:2.0
PRODID:-//CORLAB - ECPv6.15.20//NONSGML v1.0//EN
CALSCALE:GREGORIAN
METHOD:PUBLISH
X-WR-CALNAME:CORLAB
X-ORIGINAL-URL:https://corlab.cordoba.gob.ar
X-WR-CALDESC:Eventos para CORLAB
REFRESH-INTERVAL;VALUE=DURATION:PT1H
X-Robots-Tag:noindex
X-PUBLISHED-TTL:PT1H
BEGIN:VTIMEZONE
TZID:America/Argentina/Cordoba
BEGIN:STANDARD
TZOFFSETFROM:-0300
TZOFFSETTO:-0300
TZNAME:-03
DTSTART:20230101T000000
END:STANDARD
END:VTIMEZONE
BEGIN:VEVENT
DTSTART;TZID=America/Argentina/Cordoba:20240919T093000
DTEND;TZID=America/Argentina/Cordoba:20240919T093000
DTSTAMP:20260423T034755
CREATED:20240919T154040Z
LAST-MODIFIED:20240919T155211Z
UID:18261-1726738200-1726738200@corlab.cordoba.gob.ar
SUMMARY:Public lunch | OECD GOV2GOV Innovation Incubator
DESCRIPTION:CorLab\, el Laboratorio de Innovación Pública y Govtech de la Secretaría Ciudad Inteligente y Tranformación Digital de la Municipalidad de Córdoba invita a  este evento público\, la Secretaría de la OCDE que presentará su incubadora al público\, desde su concepción hasta la actualidad. \n\n\n\nPosteriormente\, será una oportunidad para conocer a los equipos de gobierno que están haciendo realidad la iniciativa y escucharles presentar los retos y aportaciones al programa. \n\n\n\nEl programa del evento:  \n\n\n\n↪ Mejora la participación pública con la Presidência da República y la Comisión de Participación Cívica (CEC) de la Ciudad de Nueva York \n\n\n\n↪ Fortalecimiento de los #dataspaces públicos con el Ministère Écologie Territoires\, la Oficina de Tecnología e Innovación de Londres (LOTI) y el Instituto VATT de Investigación Económica \n\n\n\n↪ Fomento de una cultura #AI con INPS_official\, Rijks ICT Gilde y la Agencia Noruega de Digitalización (Digdir) \n\n\n\n↪ Mejora de la accesibilidad de los servicios publicos con la Junta de Andalucía\, el Laboratorio de Gobierno y Empleo y Desarrollo Social de Canadá \n\n\n\n\nInscripciones aquí
URL:https://corlab.cordoba.gob.ar/actividad/public-lunch-oecd-gov2gov-innovation-incubator/
CATEGORIES:Evento en línea
ATTACH;FMTTYPE=image/jpeg:https://corlab.cordoba.gob.ar/wp-content/uploads/2024/09/WhatsApp-Image-2024-09-16-at-12.52.23-scaled.jpeg
END:VEVENT
END:VCALENDAR