BEGIN:VCALENDAR
VERSION:2.0
PRODID:-//CORLAB - ECPv6.15.20//NONSGML v1.0//EN
CALSCALE:GREGORIAN
METHOD:PUBLISH
X-ORIGINAL-URL:https://corlab.cordoba.gob.ar
X-WR-CALDESC:Eventos para CORLAB
REFRESH-INTERVAL;VALUE=DURATION:PT1H
X-Robots-Tag:noindex
X-PUBLISHED-TTL:PT1H
BEGIN:VTIMEZONE
TZID:America/Argentina/Cordoba
BEGIN:STANDARD
TZOFFSETFROM:-0300
TZOFFSETTO:-0300
TZNAME:-03
DTSTART:20240101T000000
END:STANDARD
END:VTIMEZONE
BEGIN:VEVENT
DTSTART;TZID=America/Argentina/Cordoba:20250507T120000
DTEND;TZID=America/Argentina/Cordoba:20250507T120000
DTSTAMP:20260423T001055
CREATED:20250506T144014Z
LAST-MODIFIED:20250506T144017Z
UID:19309-1746619200-1746619200@corlab.cordoba.gob.ar
SUMMARY:Webinar Inteligencia Artificial y Economía Circular
DESCRIPTION:🔁 ¿Sabías que la Inteligencia Artificial puede acelerar la Economía Circular en América Latina? \n\n\n\nTe invitamos a descubrir cómo la IA está transformando sectores clave de la economía circular como residuos\, agricultura y cadena de suministro 💡♻️ \n\n\n\n 7 de mayo\, 2025 | 12:00 PM (GMT-3)🎙️ Con referentes de la OEA\, CEITTEC\, LACCEI\, CCI y empresas innovadoras como KIGÜI\, KILIMO y SINBA. \n\n\n\n🚀 Sumate y conocé casos reales que combinan tecnología y sostenibilidad para impulsar un futuro más circular en la región.📩 Organiza:  CEITTEC – Centro de Excelencia sobre Innovación y Tecnologías Transformadoras para la Economía Circular | ceittec.bio.linkIniciativa reconocida por la OEA y alineada al Plan de Trabajo de la COMCYT 2025–2027 \n\n\n\n\nInscripciones
URL:https://corlab.cordoba.gob.ar/actividad/webinar-inteligencia-artificial-y-economia-circular/
CATEGORIES:Evento en línea
ATTACH;FMTTYPE=image/jpeg:https://corlab.cordoba.gob.ar/wp-content/uploads/2025/05/WhatsApp-Image-2025-05-06-at-11.29.24.jpeg
END:VEVENT
END:VCALENDAR