BEGIN:VCALENDAR
VERSION:2.0
PRODID:-//CORLAB - ECPv6.15.20//NONSGML v1.0//EN
CALSCALE:GREGORIAN
METHOD:PUBLISH
X-ORIGINAL-URL:https://corlab.cordoba.gob.ar
X-WR-CALDESC:Eventos para CORLAB
REFRESH-INTERVAL;VALUE=DURATION:PT1H
X-Robots-Tag:noindex
X-PUBLISHED-TTL:PT1H
BEGIN:VTIMEZONE
TZID:America/Argentina/Cordoba
BEGIN:STANDARD
TZOFFSETFROM:-0300
TZOFFSETTO:-0300
TZNAME:-03
DTSTART:20240101T000000
END:STANDARD
END:VTIMEZONE
BEGIN:VEVENT
DTSTART;TZID=America/Argentina/Cordoba:20251029T143000
DTEND;TZID=America/Argentina/Cordoba:20251029T170000
DTSTAMP:20260422T153833
CREATED:20251024T131940Z
LAST-MODIFIED:20251024T132058Z
UID:19858-1761748200-1761757200@corlab.cordoba.gob.ar
SUMMARY:Movilidad Latam 2030
DESCRIPTION:CorLab\, perteneciente a la Secretaría de Ciudad Inteligente y Transformación Digital de la Municipalidad de Córdoba\, invita a participar de la 5.ª edición del encuentro Movilidad Latam 2030\, organizado por Ualabee\, startup invertida por el Fondo Córdoba Ciudad Inteligente. \n\n\n\nEl evento conecta al sector público y privado de toda Latinoamérica para acelerar la digitalización de la movilidad urbana\, compartiendo experiencias\, herramientas y casos aplicados desde Córdoba hacia la región. \n\n\n\nDurante la jornada\, representantes de gobiernos y empresas líderes abordarán cómo la tecnología está transformando la movilidad y la gestión urbana. \n\n\n\n🗓 Fecha: Miércoles 29 de octubre🕓 Hora: 14:30 hs (ARG/UY/BRA/CL) | 12:30 hs (PE/EC/COL) | 11:30 hs (MX)💻 Modalidad: 100% virtual y gratuita🔗 Inscripción: https://luma.com/2fatkbhy \n\n\n\nEl encuentro propone reflexionar y aprender sobre cómo los datos\, los estándares y la inteligencia artificial pueden impulsar decisiones basadas en evidencia\, mejorar la sostenibilidad\, la inclusión y la eficiencia en el transporte. \n\n\n\nTemas destacados: \n\n\n\n\nIA aplicada a gobiernos: decisiones más ágiles y precisas.\n\n\n\nGTFS y GTFS-RT: el lenguaje que estandariza el transporte público.\n\n\n\nSensores\, GPS y tableros en tiempo real para transformar datos en acción.\n\n\n\n\nCorLab acompaña este encuentro como media partner de #MovilidadLatam2030\, impulsando la adopción de tecnologías que transforman la movilidad en nuestras ciudades.
URL:https://corlab.cordoba.gob.ar/actividad/movilidad-latam-2030-2/
CATEGORIES:Evento en línea
ATTACH;FMTTYPE=image/png:https://corlab.cordoba.gob.ar/wp-content/uploads/2025/10/Diseno-sin-titulo-3-e1761311865159.png
END:VEVENT
END:VCALENDAR