BEGIN:VCALENDAR
VERSION:2.0
PRODID:-//CORLAB - ECPv6.15.20//NONSGML v1.0//EN
CALSCALE:GREGORIAN
METHOD:PUBLISH
X-ORIGINAL-URL:https://corlab.cordoba.gob.ar
X-WR-CALDESC:Eventos para CORLAB
REFRESH-INTERVAL;VALUE=DURATION:PT1H
X-Robots-Tag:noindex
X-PUBLISHED-TTL:PT1H
BEGIN:VTIMEZONE
TZID:America/Argentina/Cordoba
BEGIN:STANDARD
TZOFFSETFROM:-0300
TZOFFSETTO:-0300
TZNAME:-03
DTSTART:20240101T000000
END:STANDARD
END:VTIMEZONE
BEGIN:VEVENT
DTSTART;TZID=America/Argentina/Cordoba:20250924T080000
DTEND;TZID=America/Argentina/Cordoba:20250924T170000
DTSTAMP:20260421T223552
CREATED:20250904T171150Z
LAST-MODIFIED:20250919T133246Z
UID:19771-1758700800-1758733200@corlab.cordoba.gob.ar
SUMMARY:Córdoba Tech Week
DESCRIPTION:El Laboratorio de Innovación Pública y Govtech de la Secretaria Ciudad Inteligente y Transformación Digital de la Municipalidad de Córdoba te invita a participar de Córdoba Tech Week organizado por Córdoba Cluster. Este 24 y 25 de septiembre en el Centro de Convenciones Córdoba\, reunirá a referentes\, empresas y emprendedores en un espacio único para aprender\, conectar y experimentar. \n\n\n\nDurante dos jornadas\, vas a poder: \n\n\n\n🎤 Participar de charlas con expertos y referentes del sector\, donde se compartirán tendencias\, experiencias y estrategias que están marcando el futuro de la tecnología. \n\n\n\n🤝 Conectar con profesionales y emprendedores\, generando oportunidades de networking y colaboración que potencien tus proyectos. \n\n\n\n🖥 Explorar la zona expo\, un espacio interactivo donde la innovación se toca\, se prueba y se vive de manera directa. \n\n\n\nAdemás\, el equipo de CorLab estará presente en dos charlas de este gran evento 25.09 – 9:15 –  “Plataforma iNNOVAB: Dejá de buscar. Empezá a conectar” por Hernán Perín\, Director General Govtech25.09 – 15:00 – Panel «Innovación local con impacto» – RIL y Marcela Nicolaides\, Directora de Economía del Conocimiento y Hernán Perín\, Director General Govtech; de CorLab.   \n\n\n\n🔥 ¡No te pierdas el evento que está transformando el panorama de la innovación y la tecnología en Argentina! \n\n\n\n \n\n\n\n\n\n\n\n\nMás información\n\n\n\nInscripciones
URL:https://corlab.cordoba.gob.ar/actividad/cordoba-tech-week/
CATEGORIES:Presencial
ATTACH;FMTTYPE=image/png:https://corlab.cordoba.gob.ar/wp-content/uploads/2025/09/Flyer-horizontal-Save-the-date-CTW-1.png
END:VEVENT
END:VCALENDAR