BEGIN:VCALENDAR
VERSION:2.0
PRODID:-//CORLAB - ECPv6.15.20//NONSGML v1.0//EN
CALSCALE:GREGORIAN
METHOD:PUBLISH
X-ORIGINAL-URL:https://corlab.cordoba.gob.ar
X-WR-CALDESC:Eventos para CORLAB
REFRESH-INTERVAL;VALUE=DURATION:PT1H
X-Robots-Tag:noindex
X-PUBLISHED-TTL:PT1H
BEGIN:VTIMEZONE
TZID:America/Argentina/Cordoba
BEGIN:STANDARD
TZOFFSETFROM:-0300
TZOFFSETTO:-0300
TZNAME:-03
DTSTART:20240101T000000
END:STANDARD
END:VTIMEZONE
BEGIN:VEVENT
DTSTART;TZID=America/Argentina/Cordoba:20250610T080000
DTEND;TZID=America/Argentina/Cordoba:20250612T170000
DTSTAMP:20260422T043037
CREATED:20250604T151949Z
LAST-MODIFIED:20250604T151954Z
UID:19427-1749542400-1749747600@corlab.cordoba.gob.ar
SUMMARY:Smart City Expo LATAM Congress 
DESCRIPTION:CorLab\, el Laboratorio de Innovación Pública y Govtech de la Secretaría Ciudad Inteligente y Transformación Digital de la Municipalidad de Córdoba\, invita a participar a la Smart City Expo LATAM Congress. Este evento se ha convertido en el punto de partida para la transformación urbana\, donde grandes iniciativas se encuentran con la experiencia de los líderes más influyentes\, convirtiendo ideas en proyectos de prosperidad y sostenibilidad urbana. \n\n\n\n \n\n\n\n\n\n\n\n \n\n\n\nReune investigadores\, empresarios y líderes políticos para implementar acciones concretas que dejen huella en la comunidades\, creando sociedades sostenibles\, innovadoras\, tecnológicas e inclusivas. \n\n\n\nDel 10 al 12 de junio de 2025\, la ciudad de Puebla – México\, será sede del Smart City Expo LATAM Congress\, destacándose como una capital inclusiva y comprometida con la preservación de sus recursos y su diversidad cultural. Con un acervo histórico destacado y un enfoque en educación\, emprendimiento y turismo sostenible\, Puebla celebra sus raíces\, promueve el desarrollo inteligente y la inclusión social\, y reafirma su capacidad de pensar en grande para un futuro próspero.La Secretaría Ciudad Inteligente de la Municipalidad de Córdoba es gobierno destacado \n\n\n\nDesde el norte hasta el sur del continente\, gobiernos locales\, estatales y municipales se integran al Smart City Expo LATAM Congress 2025 con un propósito común: construir ciudades más sostenibles\, inteligentes y humanas. \n\n\n\nEntre los actores destacados\, se encuentra la Secretaría de Ciudad Inteligente y Transformación Digital de la Municipalidad de Córdoba\, que reafirma su compromiso con la innovación pública y el desarrollo de soluciones tecnológicas al servicio de la ciudadanía. \n\n\n\nSu participación\, junto a la de otros gobiernos\, confirma que la innovación no tiene fronteras. Cada territorio aporta ideas\, experiencias y visión para enfrentar los desafíos urbanos del presente y del futuro. \n\n\n\nCórdoba Govtech en el panel de disertaciones \n\n\n\nEn ese marco\, el 10 de junio\, Hernán Perín\, Director General de Govtech de la Secretaría Ciudad Inteligente\, será disertante en el panel “Govtech: Innovación digital en el sector público para la inclusión social y mejores servicios”. Una oportunidad para compartir cómo Córdoba impulsa un nuevo modelo de gestión pública\, más ágil\, abierta e inclusiva\, a través de la colaboración con el ecosistema emprendedor. \n\n\n\nSu participación\, junto a la de otros gobiernos de la región\, confirma que la innovación no tiene fronteras. Cada territorio aporta ideas\, experiencias y visión para enfrentar los desafíos urbanos del presente y del futuro. \n\n\n\n\nInscripciones\n\n\n\nMás informacion
URL:https://corlab.cordoba.gob.ar/actividad/smart-city-expo-latam-congress/
CATEGORIES:Presencial
ATTACH;FMTTYPE=image/png:https://corlab.cordoba.gob.ar/wp-content/uploads/2025/06/image.png
END:VEVENT
END:VCALENDAR