BEGIN:VCALENDAR
VERSION:2.0
PRODID:-//CORLAB - ECPv6.15.20//NONSGML v1.0//EN
CALSCALE:GREGORIAN
METHOD:PUBLISH
X-ORIGINAL-URL:https://corlab.cordoba.gob.ar
X-WR-CALDESC:Eventos para CORLAB
REFRESH-INTERVAL;VALUE=DURATION:PT1H
X-Robots-Tag:noindex
X-PUBLISHED-TTL:PT1H
BEGIN:VTIMEZONE
TZID:America/Argentina/Cordoba
BEGIN:STANDARD
TZOFFSETFROM:-0300
TZOFFSETTO:-0300
TZNAME:-03
DTSTART:20240101T000000
END:STANDARD
END:VTIMEZONE
BEGIN:VEVENT
DTSTART;TZID=America/Argentina/Cordoba:20250616T080000
DTEND;TZID=America/Argentina/Cordoba:20250617T170000
DTSTAMP:20260422T041256
CREATED:20250527T135114Z
LAST-MODIFIED:20250527T135153Z
UID:19399-1750060800-1750179600@corlab.cordoba.gob.ar
SUMMARY:Misión Comercial de Tecnología a México
DESCRIPTION:El laboratorio de Innovación de la Municipalidad de Córdoba\, invita al evento organizado por la Dirección de Promoción de Exportaciones de Servicios Basados en el Conocimiento\, Industrias Creativas\, Turismo y Deportes (DNTEC) perteneciente al Ministerio de Relaciones Exteriores\, Comercio Internacional y Culto (MRECIC) de la República Argentina. \n\n\n\n\n\n\n\nÉste convoca a empresas argentinas del sector de Tecnología dentro de los perfiles: Fintech\, HealthTech\, GovTech\, EdTech\, ECommerce\, Ciberseguridad y Logística a la Misión Comercial de Tecnología a la ciudad de México (México) que se realizará los días 16 y 17 de junio de 2025. \n\n\n\nDurante la misión\, se organizarán Paneles de Expertos\, que incluirán autoridades y organizaciones del sector público y privado.  Esta actividad busca potenciar el contacto entre entidades sectoriales locales\, referentes del sector privado y público especializado. \n\n\n\nDel mismo modo\, se coordinarán reuniones B2B con empresas locales previamente identificadas y se ofrecerán espacios para encuentros de negocios\, con el objetivo de fortalecer la internacionalización de las empresas argentinas participantes. \n\n\n\nFinalizada la Misión\, tendrá lugar el 10° Congreso de IA\, Tecnología y Negocios AMERICA DIGITAL MÉXICO 2025\, entre los días 18 y 19 de junio. Evento orientado a las verticales: SOFTWARE\, TELECOM\, CLOUD\, BIG DATA\, INDUSTRIA 4.0\, IOT\, CIBERSEGURIDAD\, FINTECH\, WEB3\, E-COMMERCE\, MARKETING DIGITAL. \n\n\n\nFECHA LÍMITE DE INSCRIPCIÓN: 16 de mayo 2025 \n\n\n\n\nFormulario de inscricpión\n\n\n\n\nSe aclara a las empresas interesadas en participar que dentro del Formulario de Inscripción encontraran un apartado denominado «Posición Arancelaria»\, en caso de desconocerla pueden escribir un numero aleatorio y posteriormente lo completaremos nosotros. Del mismo modo\, respecto al apartado «Brochure/Catalogo de Productos/One Pager»\, en caso de no contar con uno pueden cargar el logo de la empresa nuevamente y posteriormente trabajaremos en conjunto en la elaboración de un One Pager.
URL:https://corlab.cordoba.gob.ar/actividad/mision-comercial-de-tecnologia-a-mexico-2/
CATEGORIES:Presencial
ATTACH;FMTTYPE=image/png:https://corlab.cordoba.gob.ar/wp-content/uploads/2025/05/Trade-Net2.png
END:VEVENT
END:VCALENDAR